BEGIN:VCALENDAR
VERSION:2.0
PRODID:-//Visually Impaired Advocates - Houston - ECPv6.15.20//NONSGML v1.0//EN
CALSCALE:GREGORIAN
METHOD:PUBLISH
X-ORIGINAL-URL:https://viadvocates.org
X-WR-CALDESC:Events for Visually Impaired Advocates - Houston
REFRESH-INTERVAL;VALUE=DURATION:PT1H
X-Robots-Tag:noindex
X-PUBLISHED-TTL:PT1H
BEGIN:VTIMEZONE
TZID:UTC
BEGIN:STANDARD
TZOFFSETFROM:+0000
TZOFFSETTO:+0000
TZNAME:UTC
DTSTART:20170101T000000
END:STANDARD
END:VTIMEZONE
BEGIN:VEVENT
DTSTART;TZID=UTC:20190221T103000
DTEND;TZID=UTC:20190221T120000
DTSTAMP:20260425T134028
CREATED:20190115T193632Z
LAST-MODIFIED:20190115T193632Z
UID:1097-1550745000-1550750400@viadvocates.org
SUMMARY:2019 Go Western Dress Up
DESCRIPTION:Howdy\, partner!  It’s that time of the year in Houston–rodeo time! \nThe Support Group is encouraging everyone to dress up in their in their favorite Go Western attire for Thursday\, February 28\, during today’s Support Group meeting.  Participants western attire will be audio described from head to foot and we’ll have some cowpokes to judge the Best Dressed Male and Best Dressed Female participant.  Come join the fun!
URL:https://viadvocates.org/event/2019-go-western-dress-up/
LOCATION:City of Houston Metropolitan Multi-Service Center\, 1475 West Gray\, Houston\, TX\, 77019\, United States
END:VEVENT
BEGIN:VEVENT
DTSTART;TZID=UTC:20190221T103000
DTEND;TZID=UTC:20190221T120000
DTSTAMP:20260425T134028
CREATED:20190115T185116Z
LAST-MODIFIED:20190115T185116Z
UID:1086-1550745000-1550750400@viadvocates.org
SUMMARY:Blind and Visually Impaired Support Group Meeting
DESCRIPTION:The Blind and Visually Impaired Support Group Meeting is Thursday\, February 21\, 2019. \nDesigned exclusively for blind and visually impaired adults who have been deemed blind and may need encouragement and support as they face this challenge. \n 
URL:https://viadvocates.org/event/blind-and-visually-impaired-support-group-meeting-6/
LOCATION:City of Houston Metropolitan Multi-Service Center\, 1475 West Gray\, Houston\, TX\, 77019\, United States
END:VEVENT
BEGIN:VEVENT
DTSTART;TZID=UTC:20190214T103000
DTEND;TZID=UTC:20190214T113000
DTSTAMP:20260425T134028
CREATED:20190115T183827Z
LAST-MODIFIED:20190115T183827Z
UID:1082-1550140200-1550143800@viadvocates.org
SUMMARY:Blind and Visually Impaired Support Group Meeting
DESCRIPTION:The Blind and Visually Impaired Support Group meeting is Thursday\, February 14\, 2019. \nDesigned exclusively for blind and visually impaired adults who have been deemed legally blind and may need encouragement and support as they face this challenge.
URL:https://viadvocates.org/event/blind-and-visually-impaired-support-group-meeting-5/
LOCATION:City of Houston Metropolitan Multi-Service Center\, 1475 West Gray\, Houston\, TX\, 77019\, United States
END:VEVENT
BEGIN:VEVENT
DTSTART;TZID=UTC:20190207T123000
DTEND;TZID=UTC:20190207T143000
DTSTAMP:20260425T134028
CREATED:20190115T195102Z
LAST-MODIFIED:20190115T195102Z
UID:1109-1549542600-1549549800@viadvocates.org
SUMMARY:VIA February\, 2019 Executive Board Meeting
DESCRIPTION:Visually Impaired Advocates February\, 2019 Executive Board Meeting will be held on Thursday\, February 7\, from 12:30 p.m. to 2:30 p.m.  Please be punctual and notify Secretary if unable to attend.  Meeting is closed to the public.
URL:https://viadvocates.org/event/via-february-2019-executive-board-meeting/
LOCATION:City of Houston Metropolitan Multi-Service Center\, 1475 West Gray\, Houston\, TX\, 77019\, United States
END:VEVENT
BEGIN:VEVENT
DTSTART;TZID=UTC:20190207T103000
DTEND;TZID=UTC:20190207T170000
DTSTAMP:20260425T134028
CREATED:20190115T192647Z
LAST-MODIFIED:20190116T183554Z
UID:1095-1549535400-1549558800@viadvocates.org
SUMMARY:VIA 75-25 Raffle Kickoff!
DESCRIPTION:The 75-25 Visually Impaired Advocates Raffle will begin today.  Tickets are $1 each or 6 for $5. \nTickets may be purchased from any member beginning today and as often as you would like.  The drawing will be held at the August\, 2019 70s Party.  You need not be present to win\, but you must provide the following information on your stub:  your name and viable phone number.  Then return the stub to a VIA member to place in the pot for the drawing.
URL:https://viadvocates.org/event/via-75-25-raffle-kickoff/
LOCATION:City of Houston Metropolitan Multi-Service Center\, 1475 West Gray\, Houston\, TX\, 77019\, United States
END:VEVENT
BEGIN:VEVENT
DTSTART;TZID=UTC:20190207T103000
DTEND;TZID=UTC:20190207T120000
DTSTAMP:20260425T134028
CREATED:20190115T183112Z
LAST-MODIFIED:20190115T183112Z
UID:1078-1549535400-1549540800@viadvocates.org
SUMMARY:Blind and Visually Impaired Support Group Meeting
DESCRIPTION:The Blind and Visually Impaired Support Group meeting is Thursday\, February 7\, 2019. \nDesigned exclusively for blind and visually impaired adults who have been deemed legally blind and may need encouragement and support as they face this challenge.
URL:https://viadvocates.org/event/blind-and-visually-impaired-support-group-meeting-4/
LOCATION:City of Houston Metropolitan Multi-Service Center\, 1475 West Gray\, Houston\, TX\, 77019\, United States
END:VEVENT
BEGIN:VEVENT
DTSTART;TZID=UTC:20190131T103000
DTEND;TZID=UTC:20190131T120000
DTSTAMP:20260425T134028
CREATED:20190115T182503Z
LAST-MODIFIED:20190115T182503Z
UID:1071-1548930600-1548936000@viadvocates.org
SUMMARY:Blind and Visually Impaired Support Group
DESCRIPTION:The Blind and Visually Impaired Support Group meeting is Thursday\, January 31\, 2019. \nDesigned exclusively for blind and visually impaired adults who have been deemed legally blind and may need encouragement and support as they face this challenge.
URL:https://viadvocates.org/event/blind-and-visually-impaired-support-group-3/
LOCATION:City of Houston Metropolitan Multi-Service Center\, 1475 West Gray\, Houston\, TX\, 77019\, United States
END:VEVENT
BEGIN:VEVENT
DTSTART;TZID=UTC:20190124T103000
DTEND;TZID=UTC:20190124T120000
DTSTAMP:20260425T134028
CREATED:20190115T182727Z
LAST-MODIFIED:20190115T182727Z
UID:1074-1548325800-1548331200@viadvocates.org
SUMMARY:Blind and Visually Impaired Support Group Meeting
DESCRIPTION:The Blind and Visually Impaired Support Group meeting is Thursday\, January 24\, 2019. \nDesigned exclusively for blind and visually impaired adults who have been deemed legally blind and may need encouragement and support as they face this challenge.
URL:https://viadvocates.org/event/blind-and-visually-impaired-support-group-meeting-2/
LOCATION:City of Houston Metropolitan Multi-Service Center\, 1475 West Gray\, Houston\, TX\, 77019\, United States
END:VEVENT
BEGIN:VEVENT
DTSTART;TZID=UTC:20190119T080000
DTEND;TZID=UTC:20190214T120000
DTSTAMP:20260425T134028
CREATED:20190119T151545Z
LAST-MODIFIED:20190119T152049Z
UID:1119-1547884800-1550145600@viadvocates.org
SUMMARY:VIA-sponsored Casino Trip!!!
DESCRIPTION:The VIA Coushatta Casino trip is scheduled for Tuesday\, February 26. In order for bus to move\, we need 40-plus paid passengers by Thursday\, February 14.  The bus seats 55 passengers.  So invite a friend! \nRemember you must be 21 years of age\, bring your current state-approved picture identification card\, and any medications you might need for the day.  Cost for the trip is $20.  Bus will leave 1475 West Gray at 7 a.m. and return at 7 p.m.  Final Passenger count will be determined by the number of passengers swiped upon arrival at the Coushatta Casino Resort. \nAll aboard!
URL:https://viadvocates.org/event/1119/
LOCATION:City of Houston Metropolitan Multi-Service Center\, 1475 West Gray\, Houston\, TX\, 77019\, United States
END:VEVENT
BEGIN:VEVENT
DTSTART;TZID=UTC:20190117T103000
DTEND;TZID=UTC:20190117T120000
DTSTAMP:20260425T134028
CREATED:20190115T182847Z
LAST-MODIFIED:20190115T182847Z
UID:1076-1547721000-1547726400@viadvocates.org
SUMMARY:Blind and Visually Impaired Support Group Meeting
DESCRIPTION:The Blind and Visually Impaired Support Group meeting is Thursday\, January 17\, 2019. \nDesigned exclusively for blind and visually impaired adults who have been deemed legally blind and may need encouragement and support as they face this challenge.
URL:https://viadvocates.org/event/blind-and-visually-impaired-support-group-meeting-3/
LOCATION:City of Houston Metropolitan Multi-Service Center\, 1475 West Gray\, Houston\, TX\, 77019\, United States
END:VEVENT
BEGIN:VEVENT
DTSTART;TZID=UTC:20181206T130000
DTEND;TZID=UTC:20181206T143000
DTSTAMP:20260425T134028
CREATED:20180403T222032Z
LAST-MODIFIED:20180403T222133Z
UID:847-1544101200-1544106600@viadvocates.org
SUMMARY:METROLift MAC Meeting
DESCRIPTION:METROLift MAC Meeting will be held Thursday\, December 6\, 2018.
URL:https://viadvocates.org/event/metrolift-mac-meeting/
LOCATION:City of Houston Metropolitan Multi-Service Center\, 1475 West Gray\, Houston\, TX\, 77019\, United States
END:VEVENT
BEGIN:VEVENT
DTSTART;TZID=UTC:20181009T113000
DTEND;TZID=UTC:20181009T113000
DTSTAMP:20260425T134028
CREATED:20180822T170932Z
LAST-MODIFIED:20180822T170932Z
UID:953-1539084600-1539084600@viadvocates.org
SUMMARY:TOUR OF NRG STADIUM
DESCRIPTION:Never been to NRG Stadium and wonder what it’s looks like inside? \nCome join us for a tour of NRG Stadium beginning at 12 noon on Tuesday\, October 9\, 2018.  Group will meet at 11:30 a.m. at Blue Lot 19 via Gate 9 on Kirby Drive.  Tour fee ($5) will be payable as a group. \n 
URL:https://viadvocates.org/event/tour-of-nrg-stadium/
END:VEVENT
BEGIN:VEVENT
DTSTART;TZID=UTC:20181004T130000
DTEND;TZID=UTC:20181004T143000
DTSTAMP:20260425T134028
CREATED:20180403T221709Z
LAST-MODIFIED:20180427T153815Z
UID:843-1538658000-1538663400@viadvocates.org
SUMMARY:METROLift MAC Meeting
DESCRIPTION:METROLift MAC Meeting will be held Thursday\, October 4\, 2018.  Please note the time is 1 p.m. to 2:30 p.m.
URL:https://viadvocates.org/event/mtrolift-mac-meeting/
LOCATION:City of Houston Metropolitan Multi-Service Center\, 1475 West Gray\, Houston\, TX\, 77019\, United States
END:VEVENT
BEGIN:VEVENT
DTSTART;TZID=UTC:20180927T103000
DTEND;TZID=UTC:20180927T113000
DTSTAMP:20260425T134028
CREATED:20180810T182025Z
LAST-MODIFIED:20180810T182025Z
UID:947-1538044200-1538047800@viadvocates.org
SUMMARY:Blind and Visually Impaired Support Group
DESCRIPTION:The Blind and Visually Impaired Support Group resumed meeting Thursday\, September 27\, 2018. \nDesigned exclusively for blind and visually impaired adults who have been deemed legally blind and may need encouragement and support as they face this challenge.
URL:https://viadvocates.org/event/blind-and-visually-impaired-support-group-2/
LOCATION:City of Houston Metropolitan Multi-Service Center\, 1475 West Gray\, Houston\, TX\, 77019\, United States
END:VEVENT
BEGIN:VEVENT
DTSTART;TZID=UTC:20180920T103000
DTEND;TZID=UTC:20180920T113000
DTSTAMP:20260425T134028
CREATED:20180810T181856Z
LAST-MODIFIED:20180810T181856Z
UID:945-1537439400-1537443000@viadvocates.org
SUMMARY:Blind and Visually Impaired Support Group Meeting
DESCRIPTION:The Blind and Visually Impaired Support Group resumed meeting Thursday\, September 20\, 2018. \nDesigned exclusively for blind and visually impaired adults who have been deemed legally blind and may need encouragement and support as they face this challenge.
URL:https://viadvocates.org/event/blind-and-visually-impaired-support-group-meeting/
LOCATION:City of Houston Metropolitan Multi-Service Center\, 1475 West Gray\, Houston\, TX\, 77019\, United States
END:VEVENT
BEGIN:VEVENT
DTSTART;TZID=UTC:20180913T123000
DTEND;TZID=UTC:20180913T143000
DTSTAMP:20260425T134028
CREATED:20180810T181429Z
LAST-MODIFIED:20180810T181640Z
UID:942-1536841800-1536849000@viadvocates.org
SUMMARY:VIA Open Meeting
DESCRIPTION:The VIA general membership Open Meeting will be held on Thursday\, September 13\, 2018\, following the Support Group Meeting. \nIf you are interested in joining a group advocating for the blind and visually impaired community\, then VIA is for you.  See you at the meeting!
URL:https://viadvocates.org/event/via-open-meeting/
LOCATION:City of Houston Metropolitan Multi-Service Center\, 1475 West Gray\, Houston\, TX\, 77019\, United States
END:VEVENT
BEGIN:VEVENT
DTSTART;TZID=UTC:20180913T103000
DTEND;TZID=UTC:20180913T113000
DTSTAMP:20260425T134028
CREATED:20180810T180505Z
LAST-MODIFIED:20180810T180505Z
UID:940-1536834600-1536838200@viadvocates.org
SUMMARY:Support Group Meeting
DESCRIPTION:The Blind and Visually Impaired Support Group resumed meeting Thursday\, September 13\, 2018. \nDesigned exclusively for blind and visually impaired adults who have been deemed legally blind and may need encouragement and support as they face this challenge.
URL:https://viadvocates.org/event/support-group-meeting-9/
LOCATION:City of Houston Metropolitan Multi-Service Center\, 1475 West Gray\, Houston\, TX\, 77019\, United States
END:VEVENT
BEGIN:VEVENT
DTSTART;TZID=UTC:20180906T103000
DTEND;TZID=UTC:20180906T113000
DTSTAMP:20260425T134028
CREATED:20180810T180337Z
LAST-MODIFIED:20180810T180337Z
UID:938-1536229800-1536233400@viadvocates.org
SUMMARY:Support Group Meeting
DESCRIPTION:The Blind and Visually Impaired Support Group resumed meeting Thursday\, September 6\, 2018. \nDesigned exclusively for blind and visually impaired adults who have been deemed legally blind and may need encouragement and support as they face this challenge.
URL:https://viadvocates.org/event/support-group-meeting-8/
LOCATION:City of Houston Metropolitan Multi-Service Center\, 1475 West Gray\, Houston\, TX\, 77019\, United States
END:VEVENT
BEGIN:VEVENT
DTSTART;TZID=UTC:20180830T103000
DTEND;TZID=UTC:20180830T113000
DTSTAMP:20260425T134028
CREATED:20180810T180103Z
LAST-MODIFIED:20180810T180103Z
UID:936-1535625000-1535628600@viadvocates.org
SUMMARY:VIA Support Group Meeting
DESCRIPTION:The Blind and Visually Impaired Support Group resumed meeting Thursday\, August 30\, 2018. \nDesigned exclusively for blind and visually impaired adults who have been deemed legally blind and may need encouragement and support as they face this challenge.
URL:https://viadvocates.org/event/via-support-group-meeting/
LOCATION:City of Houston Metropolitan Multi-Service Center\, 1475 West Gray\, Houston\, TX\, 77019\, United States
END:VEVENT
BEGIN:VEVENT
DTSTART;TZID=UTC:20180825T183000
DTEND;TZID=UTC:20180825T210000
DTSTAMP:20260425T134028
CREATED:20180810T175936Z
LAST-MODIFIED:20180810T175936Z
UID:933-1535221800-1535230800@viadvocates.org
SUMMARY:2018 Visually Impaired Advocates 70s Party
DESCRIPTION:VIA will sponsor its 70s Party on Saturday\, August 25\, 2018. \nPut on your favorite attire from the 70s as a prize will be given to the Best Dressed Male and Best Dressed Female. Get your dance on by enjoying DJ Will as he spins the greatest hits of the 1970s.  Tickets are $10 and may be purchased from any VIA Board Member. \n 
URL:https://viadvocates.org/event/2018-visually-impaired-advocates-70s-party/
LOCATION:City of Houston Metropolitan Multi-Service Center\, 1475 West Gray\, Houston\, TX\, 77019\, United States
END:VEVENT
BEGIN:VEVENT
DTSTART;TZID=UTC:20180823T103000
DTEND;TZID=UTC:20180823T113000
DTSTAMP:20260425T134028
CREATED:20180810T175310Z
LAST-MODIFIED:20180810T182319Z
UID:931-1535020200-1535023800@viadvocates.org
SUMMARY:Blind and Visually Impaired Support Group Meeting
DESCRIPTION:The Blind and Visually Impaired Support Group will meet Thursday\, August 23\, 2018. \nDesigned exclusively for blind and visually impaired adults who have been deemed legally blind and may need encouragement and support as they face this challenge.
URL:https://viadvocates.org/event/931/
LOCATION:City of Houston Metropolitan Multi-Service Center\, 1475 West Gray\, Houston\, TX\, 77019\, United States
END:VEVENT
BEGIN:VEVENT
DTSTART;TZID=UTC:20180816T103000
DTEND;TZID=UTC:20180816T113000
DTSTAMP:20260425T134028
CREATED:20180810T175155Z
LAST-MODIFIED:20180810T175155Z
UID:929-1534415400-1534419000@viadvocates.org
SUMMARY:The Blind and Visually Impaired Support Group
DESCRIPTION:The Blind and Visually Impaired Support Group will meet Thursday\, August 16\, 2018. \nDesigned exclusively for blind and visually impaired adults who have been deemed legally blind and may need encouragement and support as they face this challenge.
URL:https://viadvocates.org/event/the-blind-and-visually-impaired-support-group/
LOCATION:City of Houston Metropolitan Multi-Service Center\, 1475 West Gray\, Houston\, TX\, 77019\, United States
END:VEVENT
BEGIN:VEVENT
DTSTART;TZID=UTC:20180809T103000
DTEND;TZID=UTC:20180809T113000
DTSTAMP:20260425T134028
CREATED:20180810T175007Z
LAST-MODIFIED:20180810T175007Z
UID:926-1533810600-1533814200@viadvocates.org
SUMMARY:Blind and Visually Impaired Support Group
DESCRIPTION:Welcome back from the summer hiatus! \nThe Blind and Visually Impaired Support Group resumed meeting Thursday\, August 9\, 2018.\nDesigned exclusively for blind and visually impaired adults who have been deemed legally blind and may need encouragement and support as they face this challenge.
URL:https://viadvocates.org/event/blind-and-visually-impaired-support-group/
LOCATION:City of Houston Metropolitan Multi-Service Center\, 1475 West Gray\, Houston\, TX\, 77019\, United States
END:VEVENT
BEGIN:VEVENT
DTSTART;TZID=UTC:20180802T170000
DTEND;TZID=UTC:20180802T183000
DTSTAMP:20260425T134028
CREATED:20180427T153138Z
LAST-MODIFIED:20180427T153659Z
UID:864-1533229200-1533234600@viadvocates.org
SUMMARY:METROLift MAC Meeting
DESCRIPTION:METROLift MAC Meeting will be held Thursday\, August 2\, 2018.  Please note the time change:  5 p.m. to 6:30 p.m.
URL:https://viadvocates.org/event/864/
LOCATION:City of Houston Metropolitan Multi-Service Center\, 1475 West Gray\, Houston\, TX\, 77019\, United States
END:VEVENT
BEGIN:VEVENT
DTSTART;TZID=UTC:20180802T103000
DTEND;TZID=UTC:20180802T113000
DTSTAMP:20260425T134028
CREATED:20180326T215012Z
LAST-MODIFIED:20180326T215012Z
UID:826-1533205800-1533209400@viadvocates.org
SUMMARY:Blind & Visually Impaired Support Group Meeting
DESCRIPTION:The Blind and Visually Impaired Support Group will resume meeting from summer hiatus Thursday\, August 2\, 2018. \nDesigned exclusively for blind and visually impaired adults who have been deemed legally blind and may need encouragement and support as they face this challenge.
URL:https://viadvocates.org/event/blind-visually-impaired-support-group-meeting-7/
LOCATION:City of Houston Metropolitan Multi-Service Center\, 1475 West Gray\, Houston\, TX\, 77019\, United States
END:VEVENT
BEGIN:VEVENT
DTSTART;TZID=UTC:20180731T000000
DTEND;TZID=UTC:20180731T000000
DTSTAMP:20260425T134028
CREATED:20180529T190731Z
LAST-MODIFIED:20180529T190731Z
UID:893-1532995200-1532995200@viadvocates.org
SUMMARY:Bus Trip--Sailing Angels
DESCRIPTION:Come join us on Tuesday\, July 31\, 2018 on a boating trip (Sailing Angels) out of Kemah\, TX. \nCost is $10 per person; must be age 18 or above to ride bus.  Payment must be made by Thursday\, June 14\, 2018. \nTimes and specific address of boat departure will be posted upon finalization of details.
URL:https://viadvocates.org/event/bus-trip-sailing-angels/
END:VEVENT
BEGIN:VEVENT
DTSTART;TZID=UTC:20180714T120000
DTEND;TZID=UTC:20180714T170000
DTSTAMP:20260425T134028
CREATED:20180328T180659Z
LAST-MODIFIED:20180328T180659Z
UID:837-1531569600-1531587600@viadvocates.org
SUMMARY:Arthur Dominguez Memorial Luncheon
DESCRIPTION:The annual Arthur Dominguez Memorial Luncheon will be held on Saturday\, July 14\, 2018\, at Potatoe Patch located 2020 FM 1960 Road\, Houston\, TX 77073.  The SCOOP newsletter will provide the exact time of this event or you may contact Cuqui Soto.
URL:https://viadvocates.org/event/arthur-dominguez-memorial-luncheon-2/
LOCATION:Potatoe Patch\, 2020 FM 1960 Road\, Houston\, TX\, 77073
END:VEVENT
BEGIN:VEVENT
DTSTART;TZID=UTC:20180630T180000
DTEND;TZID=UTC:20180630T210000
DTSTAMP:20260425T134028
CREATED:20180326T213857Z
LAST-MODIFIED:20180529T185101Z
UID:819-1530381600-1530392400@viadvocates.org
SUMMARY:VIA 10th Anniversary
DESCRIPTION:Visually Impaired Advocates 10th Anniversary Dinner celebration will be announced upon finalization of 2018 plans.   Specific information–venue and cost are yet to be determined and will be in the SCOOP or you may contact Talana Townsend\, Hospitality Chair at 832-867-0140 or tct1204@yahoo.com.
URL:https://viadvocates.org/event/via-10th-anniversary/
LOCATION:To be determined
END:VEVENT
BEGIN:VEVENT
DTSTART;TZID=UTC:20180614T123000
DTEND;TZID=UTC:20180614T143000
DTSTAMP:20260425T134028
CREATED:20180326T214502Z
LAST-MODIFIED:20180326T214502Z
UID:822-1528979400-1528986600@viadvocates.org
SUMMARY:VIA Executive Board Meeting
DESCRIPTION:VIA Executive Board Meeting will be held on Thursday\, June 14\, 2018 from 12:30 pm to 2:30 pm.
URL:https://viadvocates.org/event/via-executive-board-meeting-3/
LOCATION:City of Houston Metropolitan Multi-Service Center\, 1475 West Gray\, Houston\, TX\, 77019\, United States
END:VEVENT
BEGIN:VEVENT
DTSTART;TZID=UTC:20180614T103000
DTEND;TZID=UTC:20180614T113000
DTSTAMP:20260425T134028
CREATED:20180326T213408Z
LAST-MODIFIED:20180326T213408Z
UID:817-1528972200-1528975800@viadvocates.org
SUMMARY:Support Group Summer Hiatus
DESCRIPTION:The weekly Blind and Visually Impaired Support Group’s last meeting as the summer hiatus begins will be Thursday\, June 14\, 2018.  Support Group meetings will resume on Thursday\, August 2\, 2018.
URL:https://viadvocates.org/event/support-group-summer-hiatus/
LOCATION:City of Houston Metropolitan Multi-Service Center\, 1475 West Gray\, Houston\, TX\, 77019\, United States
END:VEVENT
END:VCALENDAR