BEGIN:VCALENDAR
VERSION:2.0
PRODID:-//Visually Impaired Advocates - Houston - ECPv6.15.20//NONSGML v1.0//EN
CALSCALE:GREGORIAN
METHOD:PUBLISH
X-ORIGINAL-URL:https://viadvocates.org
X-WR-CALDESC:Events for Visually Impaired Advocates - Houston
REFRESH-INTERVAL;VALUE=DURATION:PT1H
X-Robots-Tag:noindex
X-PUBLISHED-TTL:PT1H
BEGIN:VTIMEZONE
TZID:UTC
BEGIN:STANDARD
TZOFFSETFROM:+0000
TZOFFSETTO:+0000
TZNAME:UTC
DTSTART:20180101T000000
END:STANDARD
END:VTIMEZONE
BEGIN:VEVENT
DTSTART;TZID=UTC:20190711T190000
DTEND;TZID=UTC:20190711T200000
DTSTAMP:20260423T234141
CREATED:20190522T152607Z
LAST-MODIFIED:20190522T152607Z
UID:1248-1562871600-1562875200@viadvocates.org
SUMMARY:Yoga for the Blind
DESCRIPTION:The ninth meeting of Yoga for the Blind will be held on Thursday\, July 11\, 2019 from 7 p.m. to 8 p.m. Please bring your own mat as a few are available.
URL:https://viadvocates.org/event/yoga-for-the-blind-6/
LOCATION:City of Houston Metropolitan Multi-Service Center\, 1475 West Gray\, Houston\, TX\, 77019\, United States
END:VEVENT
BEGIN:VEVENT
DTSTART;TZID=UTC:20190711T093000
DTEND;TZID=UTC:20190711T163000
DTSTAMP:20260423T234141
CREATED:20190522T150356Z
LAST-MODIFIED:20190522T150356Z
UID:1232-1562837400-1562862600@viadvocates.org
SUMMARY:VIA Moody Gardens Trip
DESCRIPTION:VIA will sponsor a trip to Moody Gardens (Galveston) on Thursday\, July 11\, 2019.  You must be 18 years of age to attend.  The cost for the trip is $30 (members and non-members); deadline for payment is Friday\, July 5\, 2019.  The trip activities will consist of attending the Rainforest\, taking a leisure ride on the Colonel Paddleboat\, and a boxed lunch.  As this event will require considerable walking\, please wear your comfortable shoes.  Please be on time–9:30 a.m.–as the bus will leave promptly at 10 a.m. from 1475 West Gray\, Houston\, TX 77019.  Set your return trips on METROLift  for 4:30 p.m.
URL:https://viadvocates.org/event/via-moody-gardens-trip/
LOCATION:Galveston\, TX
END:VEVENT
BEGIN:VEVENT
DTSTART;TZID=UTC:20190624T190000
DTEND;TZID=UTC:20190624T200000
DTSTAMP:20260423T234141
CREATED:20190522T152424Z
LAST-MODIFIED:20190522T152424Z
UID:1246-1561402800-1561406400@viadvocates.org
SUMMARY:Yoga for the Blind
DESCRIPTION:The eighth meeting of Yoga for the Blind will be held on Monday\, June 24\, 2019 from 7 p.m. to 8 p.m. Please bring your own mat as a few are available.
URL:https://viadvocates.org/event/yoga-for-the-blind-5/
LOCATION:City of Houston Metropolitan Multi-Service Center\, 1475 West Gray\, Houston\, TX\, 77019\, United States
END:VEVENT
BEGIN:VEVENT
DTSTART;TZID=UTC:20190617T190000
DTEND;TZID=UTC:20190617T200000
DTSTAMP:20260423T234141
CREATED:20190522T152240Z
LAST-MODIFIED:20190522T154212Z
UID:1244-1560798000-1560801600@viadvocates.org
SUMMARY:Yoga for the Blind
DESCRIPTION:The seventh meeting of Yoga for the Blind will be held on Monday\, June 17\, 2019 from 7 p.m. to 8 p.m. Please bring your own mat as a few are available.
URL:https://viadvocates.org/event/1244/
LOCATION:City of Houston Metropolitan Multi-Service Center\, 1475 West Gray\, Houston\, TX\, 77019\, United States
END:VEVENT
BEGIN:VEVENT
DTSTART;TZID=UTC:20190613T130000
DTEND;TZID=UTC:20190613T140000
DTSTAMP:20260423T234141
CREATED:20190522T151951Z
LAST-MODIFIED:20190522T151951Z
UID:1242-1560430800-1560434400@viadvocates.org
SUMMARY:Yoga for the Blind
DESCRIPTION:The sixth meeting of Yoga for the Blind will be held on Thursday\, June 13\, 2019 from 1 p.m. to 2 p.m. Please bring your own mat as a few are available.
URL:https://viadvocates.org/event/yoga-for-the-blind-4/
LOCATION:City of Houston Metropolitan Multi-Service Center\, 1475 West Gray\, Houston\, TX\, 77019\, United States
END:VEVENT
BEGIN:VEVENT
DTSTART;TZID=UTC:20190613T103000
DTEND;TZID=UTC:20190613T113000
DTSTAMP:20260423T234141
CREATED:20190522T150807Z
LAST-MODIFIED:20190525T204637Z
UID:1234-1560421800-1560425400@viadvocates.org
SUMMARY:VIA Support Group Summer Break
DESCRIPTION:Visually Impaired Advocates Support Group will gone on summer vacation as of Thursday\, June 13\, 2019 (last day for summer break).   Be safe and enjoy your summer!  The Support Group will resume meeting on Thursday\, August 8\, 2019 at 10:30 a.m. to 11:30 a.m.
URL:https://viadvocates.org/event/via-support-group-summer-break/
LOCATION:City of Houston Metropolitan Multi-Service Center\, 1475 West Gray\, Houston\, TX\, 77019\, United States
END:VEVENT
BEGIN:VEVENT
DTSTART;TZID=UTC:20190610T190000
DTEND;TZID=UTC:20190610T200000
DTSTAMP:20260423T234141
CREATED:20190522T151741Z
LAST-MODIFIED:20190522T151741Z
UID:1240-1560193200-1560196800@viadvocates.org
SUMMARY:Yoga for the Blind
DESCRIPTION:The fifth meeting of Yoga for the Blind will be held on Monday\, June 10\, 2019 from 7 p.m. to 8 p.m. Please bring your own mat as a few are available.
URL:https://viadvocates.org/event/yoga-for-the-blind-3/
LOCATION:City of Houston Metropolitan Multi-Service Center\, 1475 West Gray\, Houston\, TX\, 77019\, United States
END:VEVENT
BEGIN:VEVENT
DTSTART;TZID=UTC:20190608T100000
DTEND;TZID=UTC:20190608T150000
DTSTAMP:20260423T234141
CREATED:20190222T225319Z
LAST-MODIFIED:20190222T225319Z
UID:1155-1559988000-1560006000@viadvocates.org
SUMMARY:Extreme Weather Ready Expo
DESCRIPTION:The 2019 Extreme Weather Ready Expo\, formerly known as the Hurricane Workshop\, will be held Saturday\, June 8\, 2019\, from 10 a.m. to 3 p.m. at George R. Brown Convention Center\, Hall A.  Event is free and open to the public. This event is kid-friendly. \nLearn about preparing for hurricanes\, flooding\, tornadoes\, and more.   To pre-register\, go to www.weatherreadyexpo.com to save the date.   Registration begins at 9 a.m. \n 
URL:https://viadvocates.org/event/extreme-weather-ready-expo/
LOCATION:George R. Brown Convention Center
END:VEVENT
BEGIN:VEVENT
DTSTART;TZID=UTC:20190606T130000
DTEND;TZID=UTC:20190606T140000
DTSTAMP:20260423T234141
CREATED:20190522T151546Z
LAST-MODIFIED:20190522T151546Z
UID:1238-1559826000-1559829600@viadvocates.org
SUMMARY:Yoga for the Blind
DESCRIPTION:The fourth meeting of Yoga for the Blind will be held on Thursday\, June 3\, 2019 from 1 p.m. to 2 p.m. Please bring your own mat as a few are available.
URL:https://viadvocates.org/event/yoga-for-the-blind-2/
LOCATION:City of Houston Metropolitan Multi-Service Center\, 1475 West Gray\, Houston\, TX\, 77019\, United States
END:VEVENT
BEGIN:VEVENT
DTSTART;TZID=UTC:20190606T103000
DTEND;TZID=UTC:20190606T120000
DTSTAMP:20260423T234141
CREATED:20190522T145305Z
LAST-MODIFIED:20190522T145305Z
UID:1230-1559817000-1559822400@viadvocates.org
SUMMARY:VIA Support Group Meeting
DESCRIPTION:Thursday\, June 6\, 2019\, VIA will feature  a local attorney at the Support Group meeting who will discuss the importance of a will.  Time is 10:30 a.m. to 12 noon.
URL:https://viadvocates.org/event/via-support-group-meeting-2/
LOCATION:City of Houston Metropolitan Multi-Service Center\, 1475 West Gray\, Houston\, TX\, 77019\, United States
END:VEVENT
BEGIN:VEVENT
DTSTART;TZID=UTC:20190603T190000
DTEND;TZID=UTC:20190603T200000
DTSTAMP:20260423T234141
CREATED:20190522T151353Z
LAST-MODIFIED:20190522T151353Z
UID:1236-1559588400-1559592000@viadvocates.org
SUMMARY:Yoga for the Blind
DESCRIPTION:The third meeting of Yoga for the Blind will be held on Monday\, June 3\, 2019 from 7 p.m. to 8 p.m.  Please bring your own mat as a few are available.
URL:https://viadvocates.org/event/yoga-for-the-blind/
LOCATION:City of Houston Metropolitan Multi-Service Center\, 1475 West Gray\, Houston\, TX\, 77019\, United States
END:VEVENT
BEGIN:VEVENT
DTSTART;TZID=UTC:20190601T100000
DTEND;TZID=UTC:20190601T120000
DTSTAMP:20260423T234141
CREATED:20190525T205431Z
LAST-MODIFIED:20190525T205431Z
UID:1268-1559383200-1559390400@viadvocates.org
SUMMARY:METRONext Community Meeting
DESCRIPTION:METROLift will host a METRONext Community Meeting at George R. Brown (GRB) Convention Center\, Hall E on Saturday\, June 1\, 2019 from 10 a.m. to 12 noon. Learn more about how METRO is planning for the future through major investments; share your thoughts on the proposed improvements and work together with METRO to develop a plan to meet the ever-changing mobility needs of our region for today and tomorrow.  A light lunch will be provided. \nUnable to attend the meeting? Share your thoughs by calling 713-635-4000 or visit www.METRONext.org. \n  \n 
URL:https://viadvocates.org/event/metronext-community-meeting/
LOCATION:George R. Brown Convention Center
END:VEVENT
BEGIN:VEVENT
DTSTART;TZID=UTC:20190530T123000
DTEND;TZID=UTC:20190530T140000
DTSTAMP:20260423T234141
CREATED:20190522T153912Z
LAST-MODIFIED:20190522T153912Z
UID:1253-1559219400-1559224800@viadvocates.org
SUMMARY:VIA 2nd Quarter Membership Meeting
DESCRIPTION:Visually Impaired Advocates needs all members to mark their calendars of the second quarter Membership Meeting to be held on Thursday\, May 30\, 2019\, at 12:30 p.m. to 2:30 p.m.  Meeting room will be announced in the VIA Support Group meeting held on the same day.  If you are interested in joining or would like more information about this organization\, please attend.
URL:https://viadvocates.org/event/via-2nd-quarter-membership-meeting/
LOCATION:City of Houston Metropolitan Multi-Service Center\, 1475 West Gray\, Houston\, TX\, 77019\, United States
END:VEVENT
BEGIN:VEVENT
DTSTART;TZID=UTC:20190518T180000
DTEND;TZID=UTC:20190518T210000
DTSTAMP:20260423T234141
CREATED:20190402T203238Z
LAST-MODIFIED:20190402T203238Z
UID:1185-1558202400-1558213200@viadvocates.org
SUMMARY:VIA Annual Talent Night Fundraiser
DESCRIPTION:VIA’s annual Talent Night (formerly called Karaoke Night) is seeking individuals who can sing\, dance\, recite poetry\, rap\, or speak the Spoken Word.  Performers have until May to submit their name and talent centry to VIA contact persons.  Admission is $10 per person (including performers).  Tickets may be purchased from a VIA Board member and deadline for purchasing tickets is Thursday\, May 16\, 2019.  No tickets will be sold ata the door.  Event time is 6 p.m. to 9 p.m.
URL:https://viadvocates.org/event/via-annual-talent-night-fundraiser/
LOCATION:City of Houston Metropolitan Multi-Service Center\, 1475 West Gray\, Houston\, TX\, 77019\, United States
END:VEVENT
BEGIN:VEVENT
DTSTART;TZID=UTC:20190425T123000
DTEND;TZID=UTC:20190425T140000
DTSTAMP:20260423T234141
CREATED:20190402T202445Z
LAST-MODIFIED:20190402T202445Z
UID:1181-1556195400-1556200800@viadvocates.org
SUMMARY:One Touch Self Defense
DESCRIPTION:Mark Melonson\, One Tough Self Defense\, will continue a series of self-defense classes for the visually impaired community.  Class will continue this Thursday\, April 25 from 12:30 p.m. to 2 p.m.
URL:https://viadvocates.org/event/one-touch-self-defense-2/
LOCATION:City of Houston Metropolitan Multi-Service Center\, 1475 West Gray\, Houston\, TX\, 77019\, United States
END:VEVENT
BEGIN:VEVENT
DTSTART;TZID=UTC:20190425T103000
DTEND;TZID=UTC:20190425T120000
DTSTAMP:20260423T234141
CREATED:20190402T202717Z
LAST-MODIFIED:20190402T202717Z
UID:1183-1556188200-1556193600@viadvocates.org
SUMMARY:Specialized Telecommunication Assistance Program (STAP)
DESCRIPTION:A representative from the Specialized Telecommunication Assistance Program (STAP) will discuss the program and how to acquire the devices.  Note time change is 10:30 a.m. to 12 noon.
URL:https://viadvocates.org/event/specialized-telecommunication-assistance-program-stap/
LOCATION:City of Houston Metropolitan Multi-Service Center\, 1475 West Gray\, Houston\, TX\, 77019\, United States
END:VEVENT
BEGIN:VEVENT
DTSTART;TZID=UTC:20190418T190000
DTEND;TZID=UTC:20190418T210000
DTSTAMP:20260423T234141
CREATED:20190402T203725Z
LAST-MODIFIED:20190402T203725Z
UID:1187-1555614000-1555621200@viadvocates.org
SUMMARY:VIA April 2019 Executive Board Conference Call
DESCRIPTION:Visually Impaired Advocates April\, 2019 Executive Board Meeting will be held via conference call on Thursday\, April 18\, 7:00 p.m.  Please be punctual and notify Secretary if unable to attend.  Meeting is closed to the public.
URL:https://viadvocates.org/event/via-april-2019-executive-board-conference-call/
LOCATION:TX
END:VEVENT
BEGIN:VEVENT
DTSTART;TZID=UTC:20190418T103000
DTEND;TZID=UTC:20190418T123000
DTSTAMP:20260423T234141
CREATED:20190402T202053Z
LAST-MODIFIED:20190402T202053Z
UID:1179-1555583400-1555590600@viadvocates.org
SUMMARY:National Library Week
DESCRIPTION:In observance of National Library Week the weekly Support Group will focus on reading and reading service.  There will be a representative from the Talking Book program (National Library Services)\, Sight Into Sound\, Houston Public Library–Downtown Branch\, and the VILA Book Club.  Each vendor will share the services that are available.  There will be light refreshments.  Time change is 10:30 a.m. to 12:30 p.m.
URL:https://viadvocates.org/event/national-library-week/
LOCATION:City of Houston Metropolitan Multi-Service Center\, 1475 West Gray\, Houston\, TX\, 77019\, United States
END:VEVENT
BEGIN:VEVENT
DTSTART;TZID=UTC:20190411T123000
DTEND;TZID=UTC:20190411T140000
DTSTAMP:20260423T234141
CREATED:20190402T201430Z
LAST-MODIFIED:20190408T015058Z
UID:1175-1554985800-1554991200@viadvocates.org
SUMMARY:One Touch Self Defense
DESCRIPTION:Mark Melonson\, One Touch Self Defense\, will not hold its self-defense classes for the visually impaired community  at 12:30 p.m. to 2 p.m. on Thursday\, April 11\, 2018.
URL:https://viadvocates.org/event/one-touch-self-defense/
LOCATION:City of Houston Metropolitan Multi-Service Center\, 1475 West Gray\, Houston\, TX\, 77019\, United States
END:VEVENT
BEGIN:VEVENT
DTSTART;TZID=UTC:20190411T103000
DTEND;TZID=UTC:20190411T120000
DTSTAMP:20260423T234141
CREATED:20190402T201653Z
LAST-MODIFIED:20190402T201653Z
UID:1177-1554978600-1554984000@viadvocates.org
SUMMARY:Visually Impaired Advocates (VIA) Support Group
DESCRIPTION:VIA Support Group will feature an individual who was legally blind and got her sight back.  Note time change is 10:30 a.m. to 12 noon.
URL:https://viadvocates.org/event/visually-impaired-advocates-via-support-group/
LOCATION:City of Houston Metropolitan Multi-Service Center\, 1475 West Gray\, Houston\, TX\, 77019\, United States
END:VEVENT
BEGIN:VEVENT
DTSTART;TZID=UTC:20190406T110000
DTEND;TZID=UTC:20190406T130000
DTSTAMP:20260423T234141
CREATED:20190402T200953Z
LAST-MODIFIED:20190402T200953Z
UID:1171-1554548400-1554555600@viadvocates.org
SUMMARY:Gospel in Love Celebration
DESCRIPTION:The annual Gospel Celebration for the blind and all disability communities will include singing\, speakers\, the spoken Word delivered by our very own Rev. Michael Garrett followed by light refreshments.  Theme this year is “What’s Love Got To DO With It?”  Time is from 11 a.m. to 1 p.m.  This event is sponsored by HCB\, VIA\, and New Faith Disability Ministries.  Deadline to RSVP is April 1.
URL:https://viadvocates.org/event/gospel-in-love-celebration/
LOCATION:New Faith Church\, 4315 West Fuqua\, Houston\, TX 77045\, 77045
END:VEVENT
BEGIN:VEVENT
DTSTART;TZID=UTC:20190402T130000
DTEND;TZID=UTC:20190402T143000
DTSTAMP:20260423T234141
CREATED:20190402T204200Z
LAST-MODIFIED:20190402T204200Z
UID:1189-1554210000-1554215400@viadvocates.org
SUMMARY:METROLift MAC MEETING
DESCRIPTION:METROLift MAC Meeting will be held Thursday\, May 2\, 2019.  Please note the time is 1 p.m. to 2:30 p.m.
URL:https://viadvocates.org/event/metrolift-mac-meeting-2/
LOCATION:City of Houston Metropolitan Multi-Service Center\, 1475 West Gray\, Houston\, TX\, 77019\, United States
END:VEVENT
BEGIN:VEVENT
DTSTART;TZID=UTC:20190328T103000
DTEND;TZID=UTC:20190328T120000
DTSTAMP:20260423T234141
CREATED:20190115T195547Z
LAST-MODIFIED:20190115T195547Z
UID:1115-1553769000-1553774400@viadvocates.org
SUMMARY:Blind and Visually Impaired Support Group Meeting
DESCRIPTION:The Blind and Visually Impaired Support Group meeting is Thursday\, March 28\, 2019.   Designed exclusively for blind and visually impaired adults who have been deemed legally blind and may need encouragement and support as they face this challenge.
URL:https://viadvocates.org/event/blind-and-visually-impaired-support-group-meeting-10/
LOCATION:City of Houston Metropolitan Multi-Service Center\, 1475 West Gray\, Houston\, TX\, 77019\, United States
END:VEVENT
BEGIN:VEVENT
DTSTART;TZID=UTC:20190321T103000
DTEND;TZID=UTC:20190321T120000
DTSTAMP:20260423T234141
CREATED:20190115T195435Z
LAST-MODIFIED:20190115T195435Z
UID:1113-1553164200-1553169600@viadvocates.org
SUMMARY:Blind and Visually Impaired Support Group Meeting
DESCRIPTION:The Blind and Visually Impaired Support Group meeting is Thursday\, March 21\, 2019.   Designed exclusively for blind and visually impaired adults who have been deemed legally blind and may need encouragement and support as they face this challenge.
URL:https://viadvocates.org/event/blind-and-visually-impaired-support-group-meeting-9/
LOCATION:City of Houston Metropolitan Multi-Service Center\, 1475 West Gray\, Houston\, TX\, 77019\, United States
END:VEVENT
BEGIN:VEVENT
DTSTART;TZID=UTC:20190314T123000
DTEND;TZID=UTC:20190314T143000
DTSTAMP:20260423T234141
CREATED:20190115T194812Z
LAST-MODIFIED:20190115T194847Z
UID:1106-1552566600-1552573800@viadvocates.org
SUMMARY:VIA March\, 2019 Executive Board Meeting
DESCRIPTION:Visually Impaired Advocates March\, 2019 Executive Board Meeting will be held on Thursday\, March 14\, from 12:30 p.m. to 2:30 p.m.  Please be punctual and notify Secretary if unable to attend.  Meeting is closed to the public.
URL:https://viadvocates.org/event/via-march-2019-executive-board-meeting/
LOCATION:City of Houston Metropolitan Multi-Service Center\, 1475 West Gray\, Houston\, TX\, 77019\, United States
END:VEVENT
BEGIN:VEVENT
DTSTART;TZID=UTC:20190314T103000
DTEND;TZID=UTC:20190314T120000
DTSTAMP:20260423T234141
CREATED:20190115T195312Z
LAST-MODIFIED:20190115T195312Z
UID:1111-1552559400-1552564800@viadvocates.org
SUMMARY:Blind and Visually Impaired Support Group Meeting
DESCRIPTION:The Blind and Visually Impaired Support Group meeting is Thursday\, March 14\, 2019.   Designed exclusively for blind and visually impaired adults who have been deemed legally blind and may need encouragement and support as they face this challenge.
URL:https://viadvocates.org/event/blind-and-visually-impaired-support-group-meeting-8/
LOCATION:City of Houston Metropolitan Multi-Service Center\, 1475 West Gray\, Houston\, TX\, 77019\, United States
END:VEVENT
BEGIN:VEVENT
DTSTART;TZID=UTC:20190307T130000
DTEND;TZID=UTC:20190307T143000
DTSTAMP:20260423T234141
CREATED:20190115T194203Z
LAST-MODIFIED:20190115T194203Z
UID:1101-1551963600-1551969000@viadvocates.org
SUMMARY:METRO MAC Meeting
DESCRIPTION:METROLift MAC Meeting will be held Thursday\, March 7\, 2019.   Please note the time is 1 p.m. to 2:30 p.m.
URL:https://viadvocates.org/event/metro-mac-meeting/
LOCATION:City of Houston Metropolitan Multi-Service Center\, 1475 West Gray\, Houston\, TX\, 77019\, United States
END:VEVENT
BEGIN:VEVENT
DTSTART;TZID=UTC:20190307T103000
DTEND;TZID=UTC:20190307T120000
DTSTAMP:20260423T234141
CREATED:20190115T194458Z
LAST-MODIFIED:20190115T194458Z
UID:1104-1551954600-1551960000@viadvocates.org
SUMMARY:Blind and Visually Impaired Support Group Meeting
DESCRIPTION:The Blind and Visually Impaired Support Group Meeting will be Thursday\, March 7\, 2019. \nDesigned exclusively for blind and visually impaired adults who have been deemed legally blind and may need encouragement and support at they face this challenge.
URL:https://viadvocates.org/event/blind-and-visually-impaired-support-group-meeting-7/
LOCATION:City of Houston Metropolitan Multi-Service Center\, 1475 West Gray\, Houston\, TX\, 77019\, United States
END:VEVENT
BEGIN:VEVENT
DTSTART;TZID=UTC:20190228T103000
DTEND;TZID=UTC:20190228T120000
DTSTAMP:20260423T234141
CREATED:20190115T193910Z
LAST-MODIFIED:20190115T193910Z
UID:1099-1551349800-1551355200@viadvocates.org
SUMMARY:Go Western Dress Up!
DESCRIPTION:Howdy\, partner!  It’s that time of the year in Houston–rodeo time! \nToday\, February 28\, the Support Group is celebrating Go Western Day during today’s Support Group meeting.  Participants western attire will be audio described from head to foot and we’ll have some cowpokes to judge the Best Dressed Male and Best Dressed Female participant.   \nCome join the fun! 
URL:https://viadvocates.org/event/go-western-dress-up/
LOCATION:TX
END:VEVENT
BEGIN:VEVENT
DTSTART;TZID=UTC:20190221T123000
DTEND;TZID=UTC:20190221T143000
DTSTAMP:20260423T234141
CREATED:20190115T185939Z
LAST-MODIFIED:20190115T185939Z
UID:1088-1550752200-1550759400@viadvocates.org
SUMMARY:VIA General Membership Meeting
DESCRIPTION:The first quarter General Membership Meeting for Visually Impaired Advocates will be held on Thursday\, February 21\, following Support Group Meeting.  If you are interested in joining a group advocating for the blind and visually impaired community\, then VIA is for you. \nSee you at the meeting! 
URL:https://viadvocates.org/event/via-general-membership-meeting/
LOCATION:City of Houston Metropolitan Multi-Service Center\, 1475 West Gray\, Houston\, TX\, 77019\, United States
END:VEVENT
END:VCALENDAR