BEGIN:VCALENDAR
VERSION:2.0
PRODID:-//Visually Impaired Advocates - Houston - ECPv6.15.20//NONSGML v1.0//EN
CALSCALE:GREGORIAN
METHOD:PUBLISH
X-WR-CALNAME:Visually Impaired Advocates - Houston
X-ORIGINAL-URL:https://viadvocates.org
X-WR-CALDESC:Events for Visually Impaired Advocates - Houston
REFRESH-INTERVAL;VALUE=DURATION:PT1H
X-Robots-Tag:noindex
X-PUBLISHED-TTL:PT1H
BEGIN:VTIMEZONE
TZID:UTC
BEGIN:STANDARD
TZOFFSETFROM:+0000
TZOFFSETTO:+0000
TZNAME:UTC
DTSTART:20180101T000000
END:STANDARD
END:VTIMEZONE
BEGIN:VEVENT
DTSTART;TZID=UTC:20200312T103000
DTEND;TZID=UTC:20200312T130000
DTSTAMP:20260423T181323
CREATED:20200218T181720Z
LAST-MODIFIED:20200218T182515Z
UID:1741-1584009000-1584018000@viadvocates.org
SUMMARY:Weekly Support Group Meeting Go Western  Day and HCB BBQ Fundraiser
DESCRIPTION:Please join us on Thursday\, March 12\, 2020 wearing  your favorite western apparel and have some good BBQ.  There will be a prize for the Best Dressed Male and Best Dressed Female.  BBQ plates will consist of BBQ chicken and sausage\, potato salad\, baked beans\, and bread\, along with a drink and dessert.  Cost is $12 and the deadline for payment for BBQ plates is March 5.  No refunds and plates must be paid for in advance.  Contact Peggy Garrett 832-242-4941 and/or Gayle Metoyer 281-794-2012.
URL:https://viadvocates.org/event/weekly-support-group-meeting-go-western-day-and-hcb-bbq-fundraiser/
LOCATION:City of Houston Metropolitan Multi-Service Center\, 1475 West Gray\, Houston\, TX\, 77019\, United States
END:VEVENT
BEGIN:VEVENT
DTSTART;TZID=UTC:20200305T130000
DTEND;TZID=UTC:20200305T143000
DTSTAMP:20260423T181323
CREATED:20200218T182807Z
LAST-MODIFIED:20200218T182915Z
UID:1749-1583413200-1583418600@viadvocates.org
SUMMARY:METROLift Advisory Committee (MAC) Meeting
DESCRIPTION:The METROLift Advisory Committe Meeting will be held Thursday\, March 5\, 2020. Ridership is encouraged to attend to discuss issues/concerns\, as well as give compliments on resolution to issues/concerns.
URL:https://viadvocates.org/event/metrolift-advisory-committee-mac-meeting-3/
LOCATION:City of Houston Metropolitan Multi-Service Center\, 1475 West Gray\, Houston\, TX\, 77019\, United States
END:VEVENT
BEGIN:VEVENT
DTSTART;TZID=UTC:20200305T103000
DTEND;TZID=UTC:20200515T113000
DTSTAMP:20260423T181323
CREATED:20200307T150016Z
LAST-MODIFIED:20200320T032816Z
UID:1775-1583404200-1589542200@viadvocates.org
SUMMARY:Visually Impaired Advocates (VIA) 75-25 Raffle Ticket Sales
DESCRIPTION:Visually Impaired Advocates (VIA) is selling 75-25 Raffle tickets.  Tickets are $1 each and person’s name drawn will get 25 percent of the total raffle ticket sales.  All VIA Board members have tickets for sale and you need not be present to win.   The winning ticket will be drawn at a date to be determined due to COVID-19 Coronavirus.  Remember\, to win\, you must spend!
URL:https://viadvocates.org/event/visually-impaired-advocates-via-75-25-raffle-ticket-sales/
LOCATION:City of Houston Metropolitan Multi-Service Center\, 1475 West Gray\, Houston\, TX\, 77019\, United States
END:VEVENT
BEGIN:VEVENT
DTSTART;TZID=UTC:20200227T123000
DTEND;TZID=UTC:20200227T143000
DTSTAMP:20260423T181323
CREATED:20200124T232432Z
LAST-MODIFIED:20200207T190358Z
UID:1676-1582806600-1582813800@viadvocates.org
SUMMARY:Visually Impaired Advocates (VIA) 1st Quarter Open Membership Meeting
DESCRIPTION:Immediately following today’s weekly Support Group meeting at 12:30 p.m.\, VIA will host its annual 1st Quarter Open Membership meeting. \nMembers are asked to please bring ideas for trips\, Weekly Support Group speakers\, and events for this year.  Remember each Committee is in need of energetic and dedicated workers to assist the Chairperson.  If you would like to know what VIA is about\, please join us.  All existing members are asked to be in attendance as there’s plenty of work to be done in 2020.  If you have not paid your 2020 Membership dues\, please do so by Tuesday\, March 31\, 2020 as a penalty will be assessed thereafter.
URL:https://viadvocates.org/event/visually-impaired-advocates-via-1st-quarter-open-membership-meeting/
LOCATION:City of Houston Metropolitan Multi-Service Center\, 1475 West Gray\, Houston\, TX\, 77019\, United States
END:VEVENT
BEGIN:VEVENT
DTSTART;TZID=UTC:20200227T103000
DTEND;TZID=UTC:20200227T120000
DTSTAMP:20260423T181323
CREATED:20200124T231648Z
LAST-MODIFIED:20200218T222442Z
UID:1672-1582799400-1582804800@viadvocates.org
SUMMARY:Weekly Support Meeting--TX Workforce Commission (TWC)
DESCRIPTION:This week’s Support Group meeting (February 27\, 2020) will feature a counselor and supervisor from Texas Workforce Commission to discuss changes made to blind services.  METRO riders are asked to set their pick up times for 12:15 p.m. to avoid interrupting the speaker.
URL:https://viadvocates.org/event/weekly-support-meeting/
LOCATION:City of Houston Metropolitan Multi-Service Center\, 1475 West Gray\, Houston\, TX\, 77019\, United States
END:VEVENT
BEGIN:VEVENT
DTSTART;TZID=UTC:20200220T103000
DTEND;TZID=UTC:20200220T123000
DTSTAMP:20260423T181323
CREATED:20200124T235639Z
LAST-MODIFIED:20200218T222542Z
UID:1682-1582194600-1582201800@viadvocates.org
SUMMARY:Weekly Support Group Meeting--Area Agency on Aging
DESCRIPTION:Our guest speaker on Thursday\, February 20\, 2020 will a representative from Area Agency on Aging discussing services supported and coordinated by the Agency. The Agency is committed to facilitating access to services for all eligible persons and to promote well-being and quality of life with dignity for older adults in our community.  METRO riders are asked to set pick up times for 12:15 a.m. to avoid interrupting the speaker.
URL:https://viadvocates.org/event/weekly-support-group-meeting-3/
LOCATION:City of Houston Metropolitan Multi-Service Center\, 1475 West Gray\, Houston\, TX\, 77019\, United States
END:VEVENT
BEGIN:VEVENT
DTSTART;TZID=UTC:20200213T103000
DTEND;TZID=UTC:20200213T113000
DTSTAMP:20260423T181323
CREATED:20200207T184206Z
LAST-MODIFIED:20200207T184206Z
UID:1716-1581589800-1581593400@viadvocates.org
SUMMARY:Weekly Support Group Meeting
DESCRIPTION:The weekly Support Group will celebrate Valentine’s Day on Thursday\, February 13\, 2020.  Each attendee is asked to bring a sweet treat to share.  For more information\, please contact Talana Townsend\, 832-867-0140\, or via email at tct1204@yahoo.com.
URL:https://viadvocates.org/event/weekly-support-group-meeting-4/
LOCATION:City of Houston Metropolitan Multi-Service Center\, 1475 West Gray\, Houston\, TX\, 77019\, United States
END:VEVENT
BEGIN:VEVENT
DTSTART;TZID=UTC:20200123T103000
DTEND;TZID=UTC:20200123T120000
DTSTAMP:20260423T181323
CREATED:20200108T170945Z
LAST-MODIFIED:20200207T184302Z
UID:1647-1579775400-1579780800@viadvocates.org
SUMMARY:VIA Weekly Support Group Meeting
DESCRIPTION:Visually Impaired Advocates (VIA) Weekly Support Group will have representatives from METROLift on Thursday\, January 23\, 2020 from 10:30 a.m. to 12 noon discussing the new MACSweb and EZ Wallet programs.  Please adjust your METROLift rides for after 12 noon to eliminate disrupting speaker.
URL:https://viadvocates.org/event/via-weekly-support-group-meeting/
LOCATION:City of Houston Metropolitan Multi-Service Center\, 1475 West Gray\, Houston\, TX\, 77019\, United States
END:VEVENT
BEGIN:VEVENT
DTSTART;TZID=UTC:20200116T103000
DTEND;TZID=UTC:20200116T120000
DTSTAMP:20260423T181323
CREATED:20200108T170555Z
LAST-MODIFIED:20200108T170555Z
UID:1645-1579170600-1579176000@viadvocates.org
SUMMARY:VIA Weekly Support Meeting
DESCRIPTION:Visually Impaired Advocates (VIA) Weekly Support Group will have a speaker presenting a discussion titled\, “The Battle Against Depression” on Thursday\, January 16\, 2020 from 10:30 a.m. to 12 noon.  Please adjust your METROLift rides for after 12 noon to eliminate disrupting speaker.
URL:https://viadvocates.org/event/via-weekly-support-meeting-2/
LOCATION:City of Houston Metropolitan Multi-Service Center\, 1475 West Gray\, Houston\, TX\, 77019\, United States
END:VEVENT
BEGIN:VEVENT
DTSTART;TZID=UTC:20200109T130000
DTEND;TZID=UTC:20200109T143000
DTSTAMP:20260423T181323
CREATED:20200108T171545Z
LAST-MODIFIED:20200108T171545Z
UID:1649-1578574800-1578580200@viadvocates.org
SUMMARY:METROLift Advisory Council (MAC) Meeting
DESCRIPTION:METROLift Advisory Council (MAC) will hold its first 2020 meeting on Thursday\, January 9\, 2020 from 1 p.m. to 2:30 p.m.  Be prepared to attend and discuss issues ridership may have with service\, as well as compliments for improvements.  See you there!
URL:https://viadvocates.org/event/metrolift-advisory-council-mac-meeting-3/
LOCATION:City of Houston Metropolitan Multi-Service Center\, 1475 West Gray\, Houston\, TX\, 77019\, United States
END:VEVENT
BEGIN:VEVENT
DTSTART;TZID=UTC:20200109T103000
DTEND;TZID=UTC:20200109T113000
DTSTAMP:20260423T181323
CREATED:20200108T170145Z
LAST-MODIFIED:20200108T170145Z
UID:1643-1578565800-1578569400@viadvocates.org
SUMMARY:VIA Weekly Support Meeting
DESCRIPTION:Visually Impaired Advocates (VIA) will resume 2020 Weekly Support Group meetings on Thursday\, January 9\, from 10:30 a.m. to 11:30 a.m.  Looking forward to seeing you and hearing about your holidays!
URL:https://viadvocates.org/event/via-weekly-support-meeting/
LOCATION:City of Houston Metropolitan Multi-Service Center\, 1475 West Gray\, Houston\, TX\, 77019\, United States
END:VEVENT
BEGIN:VEVENT
DTSTART;TZID=UTC:20191212T103000
DTEND;TZID=UTC:20191212T123000
DTSTAMP:20260423T181323
CREATED:20191117T012836Z
LAST-MODIFIED:20191118T162700Z
UID:1466-1576146600-1576153800@viadvocates.org
SUMMARY:White Elephant Gift Exchange\, Christmas Celebration and Last 2019 Support Group Meeting
DESCRIPTION:Please join Weekly Support Group Meeting on Thursday\, December 12\, 2019 for our annual White Elephant Gift Exchange. Everyone attending is asked to bring a gift costing a maximum of $5 and a snack to share.   In addition\, we will have an Ugly Christmas Sweater contest.  A prize will be given to the ugliest Christmas sweater.  Note time change:  10:30 a.m. to 12:30 p.m.  Finally\, this will be our last weekly support group meeting for the year.  We will resume on Thursday\, January 9\, 2020. \nWe are wishing everyone a happy and safe Holiday season!
URL:https://viadvocates.org/event/weekly-support-group-white-elephant-gift-exchange-and-christmas-celebration/
LOCATION:City of Houston Metropolitan Multi-Service Center\, 1475 West Gray\, Houston\, TX\, 77019\, United States
END:VEVENT
BEGIN:VEVENT
DTSTART;TZID=UTC:20191205T103000
DTEND;TZID=UTC:20191205T113000
DTSTAMP:20260423T181323
CREATED:20191030T151701Z
LAST-MODIFIED:20191030T151701Z
UID:1455-1575541800-1575545400@viadvocates.org
SUMMARY:Weekly Support Group Meeting
DESCRIPTION:There will be a representative from AIRA to discuss accessibility features and the independence it gives to the blind community on Thursday\, December 5\, 2019 from 10:30 a.m. to 12 noon.  Please set METROLift pickups for 12:15 p.m. to avoid interrupting the speaker.
URL:https://viadvocates.org/event/weekly-support-group-meeting-2/
LOCATION:City of Houston Metropolitan Multi-Service Center\, 1475 West Gray\, Houston\, TX\, 77019\, United States
END:VEVENT
BEGIN:VEVENT
DTSTART;TZID=UTC:20191121T113000
DTEND;TZID=UTC:20191121T170000
DTSTAMP:20260423T181323
CREATED:20191030T150552Z
LAST-MODIFIED:20191030T150552Z
UID:1452-1574335800-1574355600@viadvocates.org
SUMMARY:VIA Holiday Giveback Carolling Practice
DESCRIPTION:If you are interested in brightening someone’s day for the holiday season\, lend us your voice.  We are looking for individuals to sing Christmas carols at the VIA Holiday Giveback; please join us for practice.  Practice will be held after Support Group meeting beginning promptly at 11:45 a.m. on Thursday\, November 21\, 2019.  For details\, please contact any VIA Board meeting.
URL:https://viadvocates.org/event/via-holiday-giveback-carolling-practice/
LOCATION:City of Houston Metropolitan Multi-Service Center\, 1475 West Gray\, Houston\, TX\, 77019\, United States
END:VEVENT
BEGIN:VEVENT
DTSTART;TZID=UTC:20191115T083000
DTEND;TZID=UTC:20191115T163000
DTSTAMP:20260423T181323
CREATED:20190823T194234Z
LAST-MODIFIED:20190823T194234Z
UID:1349-1573806600-1573835400@viadvocates.org
SUMMARY:Visually Impaired Advocates--Save the Date!
DESCRIPTION:There will be a bus trip to Washington on the Brazos on Friday\, November 15\, 2019\, where we will tour the Barrington Living History Farm.  The farm depicts the home where the last President of Texas\, Anson Jones\, lived before Texas joined the United States during the 1800s.  The tour consists of plenty of walking\, there is limited seating during the tour\, the terrain is hilly and covers approximately 450 feet.  Deadline for payment for trip is Thursday\, October 31\, 2019.  The trip costs $10 for members and non-members.  The lunch venue is to be determined and will be an individual pay.
URL:https://viadvocates.org/event/visually-impaired-advocates-save-the-date/
LOCATION:TX
END:VEVENT
BEGIN:VEVENT
DTSTART;TZID=UTC:20191114T103000
DTEND;TZID=UTC:20191114T120000
DTSTAMP:20260423T181323
CREATED:20191024T055421Z
LAST-MODIFIED:20191024T055421Z
UID:1436-1573727400-1573732800@viadvocates.org
SUMMARY:Weekly Support Group Speaker
DESCRIPTION:There will be a representative(s) from Legal Aid and Link Houston to discuss transportation options. Time will be 10:30 a.m. to 12 noon.  Please adjust your MetroLift pickups at 12:15 p.m. to avoid interrupting speaker.
URL:https://viadvocates.org/event/weekly-support-group-speaker/
LOCATION:City of Houston Metropolitan Multi-Service Center\, 1475 West Gray\, Houston\, TX\, 77019\, United States
END:VEVENT
BEGIN:VEVENT
DTSTART;TZID=UTC:20191112T090000
DTEND;TZID=UTC:20191112T150000
DTSTAMP:20260423T181323
CREATED:20191030T145716Z
LAST-MODIFIED:20191030T145716Z
UID:1447-1573549200-1573570800@viadvocates.org
SUMMARY:METRO Training Session
DESCRIPTION:METRO will sponsor its second of two training sessions on using the EZ Wallet feature\, which has been spoken about for quite some time.  METRO will have four laptops equipped with both JAWS and Zoom text.  It won’t be anything formal\, but they will be there to show people how to access and use this feature. The day and dates are as follows:  Tuesday\, November 12; Wednesday\, November 13; and Thursday\, November 14.  The time is from 9 a.m. to 3 p.m. each day.  For additional information\, contact METRO Customer Service\, 713-225-0119.  Training will be held at City of Houston Metropolitan Multi-service Center. \n 
URL:https://viadvocates.org/event/metro-training-session/
LOCATION:City of Houston Metropolitan Multi-Service Center\, 1475 West Gray\, Houston\, TX\, 77019\, United States
END:VEVENT
BEGIN:VEVENT
DTSTART;TZID=UTC:20191111T113000
DTEND;TZID=UTC:20191111T133000
DTSTAMP:20260423T181323
CREATED:20191030T144619Z
LAST-MODIFIED:20191030T144619Z
UID:1443-1573471800-1573479000@viadvocates.org
SUMMARY:BLIND DIVAS BIRTHDAY BASH!
DESCRIPTION:Please join on Monday\, November ll\, 2019 Cynthia Fobbs and Gayle Metoyer–Blind Divas–as they celebrate their birthdays at BJ’s Restaurant located at 7637 FM 1960 Road West\, Houston\, 77070 from 11:30 a.m. to 1:30 p.m.  Please contact Gayle (281-794-2012) or Cynthia (832-880-7687) so ample seating will be available.
URL:https://viadvocates.org/event/blind-divas-birthday-bash/
LOCATION:TX
END:VEVENT
BEGIN:VEVENT
DTSTART;TZID=UTC:20191107T130000
DTEND;TZID=UTC:20191107T143000
DTSTAMP:20260423T181323
CREATED:20191024T055055Z
LAST-MODIFIED:20191024T055055Z
UID:1434-1573131600-1573137000@viadvocates.org
SUMMARY:MetroLift Advisory Council (MAC) Meeting
DESCRIPTION:Metrolift Advisory Council (MAC) Meeting will hold its bi-monthly meeting to discuss updates and discuss any issues or concerns that ridership may have.   Meeting at 1475 West Gray from 1 p.m. to 2:30 p.m.  Contact Metrolift Customer Service at 713 225 0119 for further information.
URL:https://viadvocates.org/event/metrolift-advisory-council-mac-meeting/
LOCATION:City of Houston Metropolitan Multi-Service Center\, 1475 West Gray\, Houston\, TX\, 77019\, United States
END:VEVENT
BEGIN:VEVENT
DTSTART;TZID=UTC:20191107T103000
DTEND;TZID=UTC:20191107T120000
DTSTAMP:20260423T181323
CREATED:20191024T054706Z
LAST-MODIFIED:20191024T054706Z
UID:1432-1573122600-1573128000@viadvocates.org
SUMMARY:Weekly Support Group Meeting
DESCRIPTION:Another Candidate’s Chat. \nThere will be a candidate running for U. S. Congress speaking at the support group meeting on Thursday\, November 7\, 2019.  Please be prepared to ask about how his campaign will relate to people with disabilities.  Time will be from 10:30 a.m. to 12 Noon.  Please adjust your MetroLift time to avoid interrupting the meeting.
URL:https://viadvocates.org/event/weekly-support-group-meeting/
LOCATION:City of Houston Metropolitan Multi-Service Center\, 1475 West Gray\, Houston\, TX\, 77019\, United States
END:VEVENT
BEGIN:VEVENT
DTSTART;TZID=UTC:20191017T093000
DTEND;TZID=UTC:20191017T130000
DTSTAMP:20260423T181323
CREATED:20190806T032123Z
LAST-MODIFIED:20190806T032123Z
UID:1332-1571304600-1571317200@viadvocates.org
SUMMARY:Houston White Cane Safety Day
DESCRIPTION:Houston White Cane Safety Day (WCSD) will be held on Thursday\, October 17\, 2019 from 9:30 a.m to 1 p.m.  The event will begin with a march through downtown Houston that ends where the celebration begins\, Houston City Hall (Hermann Square\, 900 Smith Street\, Houston\, TX 77002).  The event features a mayoral proclamation\, inspiration speakers\, exhibitors\, live entertainment\, and much\, much more. \nThis is a chance to share in our celebration of independence and employment! \n 
URL:https://viadvocates.org/event/houston-white-cane-safety-day/
LOCATION:Houston City Hall\, 900 Smith Street\, Houston\, TX\, 77002
ORGANIZER;CN="Houston White Cane Safety Day (WCSD) Committee":MAILTO:debchristoph@outlook.com
END:VEVENT
BEGIN:VEVENT
DTSTART;TZID=UTC:20190928T103000
DTEND;TZID=UTC:20190928T130000
DTSTAMP:20260423T181323
CREATED:20190831T220754Z
LAST-MODIFIED:20190831T220754Z
UID:1368-1569666600-1569675600@viadvocates.org
SUMMARY:11th Annual Disability Unity & Pride Celebration
DESCRIPTION:The Disability Unity and Pride Celebration Planning Committee would like to invite you to our upcoming event\, 11th Annual Disability Unity & Pride Celebration.  It will be hosted by the Mayor’s Office for People with Disabilities and the 2019 theme is “People Like Us:  An Artistic Manifestation of our Humanity as Disabled People.”  The event is scheduled for Saturday\, September 28th\, 2019 from 10:30 a.m. – 1:00 p.m. at the Metropolitan Multi-Service Center located at 1475 West Gray St.\, Houston\, TX 77019.  Exhibitor set up will be 9:30 a.m. to 10:30 a.m.  There will be an hour for attendees to visit with vendors before the program officially starts at 11:30 a.m.
URL:https://viadvocates.org/event/11th-annual-disability-unity-pride-celebration/
LOCATION:City of Houston Metropolitan Multi-Service Center\, 1475 West Gray\, Houston\, TX\, 77019\, United States
ORGANIZER;CN="Mayor's Office for People with Disabilities":MAILTO:angel.ponce@houstontx.gov
END:VEVENT
BEGIN:VEVENT
DTSTART;TZID=UTC:20190926T123000
DTEND;TZID=UTC:20190926T140000
DTSTAMP:20260423T181323
CREATED:20190823T193318Z
LAST-MODIFIED:20190823T193318Z
UID:1347-1569501000-1569506400@viadvocates.org
SUMMARY:Visually Impaired Advocates (VIA) Fall Open Meeting
DESCRIPTION:VIA will hold its annual fall Open Membership Meeting on Thursday\, September 26\, 2019 from 12;30 p.m. to 2 p.m. \nMeeting will agenda will include discussion of upcoming events\, provide Committee Report updates\, entertain comments or issues membership may have.  There will be a drawing for a door prize and serving of light refreshments.  See you there!
URL:https://viadvocates.org/event/visually-impaired-advocates-via-fall-open-meeting/
LOCATION:City of Houston Metropolitan Multi-Service Center\, 1475 West Gray\, Houston\, TX\, 77019\, United States
END:VEVENT
BEGIN:VEVENT
DTSTART;TZID=UTC:20190905T170000
DTEND;TZID=UTC:20190905T183000
DTSTAMP:20260423T181323
CREATED:20190828T155534Z
LAST-MODIFIED:20190902T162042Z
UID:1359-1567702800-1567708200@viadvocates.org
SUMMARY:METROLift Advisory Council (MAC) Meeting
DESCRIPTION:METROLift Advisory Council (MAC) will hold its bi-monthly meeting to discuss updates and address any concerns or issues ridership may have.
URL:https://viadvocates.org/event/metrolift-advisory-council-mac-meeting-2/
LOCATION:City of Houston Metropolitan Multi-Service Center\, 1475 West Gray\, Houston\, TX\, 77019\, United States
END:VEVENT
BEGIN:VEVENT
DTSTART;TZID=UTC:20190829T103000
DTEND;TZID=UTC:20190829T120000
DTSTAMP:20260423T181323
CREATED:20190720T181109Z
LAST-MODIFIED:20190720T181109Z
UID:1310-1567074600-1567080000@viadvocates.org
SUMMARY:Support Group Meeting
DESCRIPTION:The weekly Support Group will feature a representative on Thursday\, August 29\, 2019\, from Vanda Pharmaceuticals.  The discussion will be about the Non-24 Sleep Disorder that affects the blind community.  The time is 10:30 am to 12 noon.  Please adjust your METROLift pick-up time.
URL:https://viadvocates.org/event/support-group-meeting-11/
LOCATION:City of Houston Metropolitan Multi-Service Center\, 1475 West Gray\, Houston\, TX\, 77019\, United States
END:VEVENT
BEGIN:VEVENT
DTSTART;TZID=UTC:20190822T103000
DTEND;TZID=UTC:20190822T120000
DTSTAMP:20260423T181323
CREATED:20190720T180454Z
LAST-MODIFIED:20190720T180655Z
UID:1304-1566469800-1566475200@viadvocates.org
SUMMARY:Support Group Meeting
DESCRIPTION:The weekly Support Group meeting will feature on Thursday\, August 22\, 2019\, a representative from Easter Seals to discuss services provided by agency.  Time is from 10:30 am to 12 noon.  Please adjust your METROLift pick-up time.
URL:https://viadvocates.org/event/support-group-meeting-10/
LOCATION:City of Houston Metropolitan Multi-Service Center\, 1475 West Gray\, Houston\, TX\, 77019\, United States
END:VEVENT
BEGIN:VEVENT
DTSTART;TZID=UTC:20190808T130000
DTEND;TZID=UTC:20190808T140000
DTSTAMP:20260423T181323
CREATED:20190720T175552Z
LAST-MODIFIED:20190720T175552Z
UID:1299-1565269200-1565272800@viadvocates.org
SUMMARY:Yoga Class for the Blind
DESCRIPTION:Yoga for the Blind will resume on Thursdays from 1 pm to 2 pm at City of Houston Metropolitan Multi-service Center\, 1475 West Gray\, Houston\, TX 77019.
URL:https://viadvocates.org/event/yoga-class-for-the-blind/
LOCATION:City of Houston Metropolitan Multi-Service Center\, 1475 West Gray\, Houston\, TX\, 77019\, United States
END:VEVENT
BEGIN:VEVENT
DTSTART;TZID=UTC:20190808T123000
DTEND;TZID=UTC:20190808T143000
DTSTAMP:20260423T181323
CREATED:20190720T180114Z
LAST-MODIFIED:20190720T180114Z
UID:1301-1565267400-1565274600@viadvocates.org
SUMMARY:Birthday Celebration!
DESCRIPTION:Please join Michael Garrett as he celebrates his ? birthday.  It will be held at Gus’s World Famous Fried Chicken\, 1815 Washington Avenue\, Houston\, TX 77007 from 12:30 pm to 2:30 pm.  Meal is an individual pay.
URL:https://viadvocates.org/event/birthday-celebration/
LOCATION:Gus’s Fried Chicken\, 1815 Washington Avenue\, Houston\, TX 77007
END:VEVENT
BEGIN:VEVENT
DTSTART;TZID=UTC:20190808T103000
DTEND;TZID=UTC:20190808T113000
DTSTAMP:20260423T181323
CREATED:20190525T204949Z
LAST-MODIFIED:20190525T205035Z
UID:1265-1565260200-1565263800@viadvocates.org
SUMMARY:Visually Impaired Advocates Support Group
DESCRIPTION:Unfortunately\, summer break is over.  Visually Impaired Advocates Support Group will resume meeting on Thursday\, August 8\, 2019 at 10:30 a.m. to 11:30 a.m.  See you there!
URL:https://viadvocates.org/event/1265/
LOCATION:City of Houston Metropolitan Multi-Service Center\, 1475 West Gray\, Houston\, TX\, 77019\, United States
END:VEVENT
BEGIN:VEVENT
DTSTART;TZID=UTC:20190718T190000
DTEND;TZID=UTC:20190718T200000
DTSTAMP:20260423T181323
CREATED:20190522T152859Z
LAST-MODIFIED:20190522T152859Z
UID:1250-1563476400-1563480000@viadvocates.org
SUMMARY:Yoga for the Blind
DESCRIPTION:The tenth meeting of Yoga for the Blind will be held on Thursday\, July 18\, 2019 from 7 p.m. to 8 p.m. Please bring your own mat as a few are available.  Check the SCOOP for the August class dates and times.
URL:https://viadvocates.org/event/yoga-for-the-blind-7/
LOCATION:City of Houston Metropolitan Multi-Service Center\, 1475 West Gray\, Houston\, TX\, 77019\, United States
END:VEVENT
END:VCALENDAR