BEGIN:VCALENDAR
VERSION:2.0
PRODID:-//Visually Impaired Advocates - Houston - ECPv6.15.20//NONSGML v1.0//EN
CALSCALE:GREGORIAN
METHOD:PUBLISH
X-WR-CALNAME:Visually Impaired Advocates - Houston
X-ORIGINAL-URL:https://viadvocates.org
X-WR-CALDESC:Events for Visually Impaired Advocates - Houston
REFRESH-INTERVAL;VALUE=DURATION:PT1H
X-Robots-Tag:noindex
X-PUBLISHED-TTL:PT1H
BEGIN:VTIMEZONE
TZID:UTC
BEGIN:STANDARD
TZOFFSETFROM:+0000
TZOFFSETTO:+0000
TZNAME:UTC
DTSTART:20170101T000000
END:STANDARD
END:VTIMEZONE
BEGIN:VEVENT
DTSTART;TZID=UTC:20180614T103000
DTEND;TZID=UTC:20180614T113000
DTSTAMP:20260425T182050
CREATED:20180326T213054Z
LAST-MODIFIED:20180326T213054Z
UID:815-1528972200-1528975800@viadvocates.org
SUMMARY:Blind & Visually Impaired Support Group
DESCRIPTION:Designed exclusively for blind and visually impaired adults who have been deemed legally blind and may need encouragement and support as they face this challenge.
URL:https://viadvocates.org/event/blind-visually-impaired-support-group-9/
LOCATION:City of Houston Metropolitan Multi-Service Center\, 1475 West Gray\, Houston\, TX\, 77019\, United States
END:VEVENT
BEGIN:VEVENT
DTSTART;TZID=UTC:20180607T130000
DTEND;TZID=UTC:20180607T143000
DTSTAMP:20260425T182050
CREATED:20180326T214729Z
LAST-MODIFIED:20180326T214729Z
UID:824-1528376400-1528381800@viadvocates.org
SUMMARY:METROLift Advisory Committee (MAC) Meeting
DESCRIPTION:METROLift Advisory Committee (MAC) meeting will be held on Thursday\, June 7\, 2018 at Metropolitan Multi-Service Center from 1 p.m. to 2:30 p.m.
URL:https://viadvocates.org/event/metrolift-advisory-committee-mac-meeting-2/
LOCATION:City of Houston Metropolitan Multi-Service Center\, 1475 West Gray\, Houston\, TX\, 77019\, United States
END:VEVENT
BEGIN:VEVENT
DTSTART;TZID=UTC:20180607T103000
DTEND;TZID=UTC:20180607T120000
DTSTAMP:20260425T182050
CREATED:20180328T175707Z
LAST-MODIFIED:20180328T175707Z
UID:835-1528367400-1528372800@viadvocates.org
SUMMARY:Blind Etiquette Training
DESCRIPTION:Blind and Visually Impaired Support Group will sponsor training on Blind Etiquette.  Trainer Benigno Aceves of TWC (formerly DARS) and his team will enlighten the group on how to handle personal situations\, group settings\, and John Q. Public.
URL:https://viadvocates.org/event/blind-etiquette-training/
LOCATION:City of Houston Metropolitan Multi-Service Center\, 1475 West Gray\, Houston\, TX\, 77019\, United States
END:VEVENT
BEGIN:VEVENT
DTSTART;TZID=UTC:20180607T103000
DTEND;TZID=UTC:20180607T113000
DTSTAMP:20260425T182050
CREATED:20180326T212930Z
LAST-MODIFIED:20180326T212930Z
UID:813-1528367400-1528371000@viadvocates.org
SUMMARY:Blind & Visually Impaired Support Group
DESCRIPTION:Designed exclusively for blind and visually impaired adults who have been deemed legally blind and may need encouragement and support as they face this challenge.
URL:https://viadvocates.org/event/blind-visually-impaired-support-group-8/
LOCATION:City of Houston Metropolitan Multi-Service Center\, 1475 West Gray\, Houston\, TX\, 77019\, United States
END:VEVENT
BEGIN:VEVENT
DTSTART;TZID=UTC:20180602T100000
DTEND;TZID=UTC:20180602T150000
DTSTAMP:20260425T182050
CREATED:20180328T174919Z
LAST-MODIFIED:20180328T174919Z
UID:832-1527933600-1527951600@viadvocates.org
SUMMARY:2018 Extreme Weather Ready Expo
DESCRIPTION:The 2018 Extreme Weather Ready Expo (formerly known as Hurricane Preparedness Workshop) will be held on Saturday\, June 2\, 2018 at the George R. Brown Convention Center.  The Expo will prepare residents for extreme weather situations through presentations\, interactive exhibits\, weather forecasting\, and more.
URL:https://viadvocates.org/event/2018-extreme-weather-ready-expo/
LOCATION:George R. Brown Convention Center
END:VEVENT
BEGIN:VEVENT
DTSTART;TZID=UTC:20180531T103000
DTEND;TZID=UTC:20180531T113000
DTSTAMP:20260425T182050
CREATED:20180325T233047Z
LAST-MODIFIED:20180325T233047Z
UID:797-1527762600-1527766200@viadvocates.org
SUMMARY:Blind & Visually Impaired Support Group
DESCRIPTION:Designed exclusively for blind and visually impaired adults who have been deemed legally blind and may need encouragement and support as they face this challenge.
URL:https://viadvocates.org/event/blind-visually-impaired-support-group-7/
LOCATION:City of Houston Metropolitan Multi-Service Center\, 1475 West Gray\, Houston\, TX\, 77019\, United States
END:VEVENT
BEGIN:VEVENT
DTSTART;TZID=UTC:20180529T185800
DTEND;TZID=UTC:20180529T185800
DTSTAMP:20260425T182050
CREATED:20180326T212741Z
LAST-MODIFIED:20180529T185850Z
UID:810-1527620280-1527620280@viadvocates.org
SUMMARY:VIA Open (General Membership) Meeting
DESCRIPTION:Open (General Membership) Meeting for VIA will be postponed. Information will be posted in the SCOOP and announced at Support Group meeting and members will be notified via text\, phone\, or email.
URL:https://viadvocates.org/event/via-open-general-membership-meeting/
LOCATION:TBA
END:VEVENT
BEGIN:VEVENT
DTSTART;TZID=UTC:20180524T103000
DTEND;TZID=UTC:20180524T113000
DTSTAMP:20260425T182050
CREATED:20180325T232949Z
LAST-MODIFIED:20180325T232949Z
UID:795-1527157800-1527161400@viadvocates.org
SUMMARY:Blind & Visually Impaired Support Group
DESCRIPTION:Designed exclusively for blind and visually impaired adults who have been deemed legally blind and may need encouragement and support as they face this challenge.
URL:https://viadvocates.org/event/blind-visually-impaired-support-group-6/
LOCATION:City of Houston Metropolitan Multi-Service Center\, 1475 West Gray\, Houston\, TX\, 77019\, United States
END:VEVENT
BEGIN:VEVENT
DTSTART;TZID=UTC:20180519T180000
DTEND;TZID=UTC:20180519T210000
DTSTAMP:20260425T182050
CREATED:20180326T195333Z
LAST-MODIFIED:20180326T203315Z
UID:801-1526752800-1526763600@viadvocates.org
SUMMARY:VIA Talent Night
DESCRIPTION:So you think you have talent–singing\, dancing\, being a comedian\, poetry reader\, etc.?  Show us by participating in the VIA Talent Night on Saturday\, May 19\, 2018 from 6 pm to 9 pm.  Sign up with Rodney Roy\, VIA Fundraising Chair.  Tickets will go on sale Thursday\, April 8\, 2018.
URL:https://viadvocates.org/event/via-talent-night/
LOCATION:City of Houston Metropolitan Multi-Service Center\, 1475 West Gray\, Houston\, TX\, 77019\, United States
END:VEVENT
BEGIN:VEVENT
DTSTART;TZID=UTC:20180517T103000
DTEND;TZID=UTC:20180517T130000
DTSTAMP:20260425T182050
CREATED:20180326T200831Z
LAST-MODIFIED:20180326T200831Z
UID:804-1526553000-1526562000@viadvocates.org
SUMMARY:Support Group Appreciation Luncheon
DESCRIPTION:Has someone been extremely helpful\, thoughtful\, and a blessing in your life?  Thursday\, May 17\, 2018 you can recognize them at the Support Group Appreciation Luncheon.  Specific information will be given in the SCOOP newsletter or you may contact Cuqui Soto.
URL:https://viadvocates.org/event/support-group-appreciation-luncheon/
LOCATION:City of Houston Metropolitan Multi-Service Center\, 1475 West Gray\, Houston\, TX\, 77019\, United States
END:VEVENT
BEGIN:VEVENT
DTSTART;TZID=UTC:20180517T103000
DTEND;TZID=UTC:20180517T113000
DTSTAMP:20260425T182050
CREATED:20180325T232836Z
LAST-MODIFIED:20180325T232836Z
UID:793-1526553000-1526556600@viadvocates.org
SUMMARY:Blind & Visually Impaired Support Group
DESCRIPTION:Designed exclusively for blind and visually impaired adults who have been deemed legally blind and may need encouragement and support as they face this challenge.
URL:https://viadvocates.org/event/blind-visually-impaired-support-group-5/
LOCATION:City of Houston Metropolitan Multi-Service Center\, 1475 West Gray\, Houston\, TX\, 77019\, United States
END:VEVENT
BEGIN:VEVENT
DTSTART;TZID=UTC:20180516T090000
DTEND;TZID=UTC:20180516T130000
DTSTAMP:20260425T182050
CREATED:20180328T170813Z
LAST-MODIFIED:20180328T170813Z
UID:829-1526461200-1526475600@viadvocates.org
SUMMARY:HPD Police Tour
DESCRIPTION:Come join the Support Group and VIA for our annual Houston Police Department tour and community outreach held at the HPD Academy.  There will be tours of specialty units such as the dive and SWAT teams\, the canine and equine units\, the helicopters and motorcycle units\, just to name a fun.
URL:https://viadvocates.org/event/hpd-police-tour/
LOCATION:Houston Police Academy\, 17600 Aldine Westfield Road\, Houston\, TX\, 77073
END:VEVENT
BEGIN:VEVENT
DTSTART;TZID=UTC:20180510T103000
DTEND;TZID=UTC:20180510T113000
DTSTAMP:20260425T182050
CREATED:20180325T232733Z
LAST-MODIFIED:20180325T232733Z
UID:791-1525948200-1525951800@viadvocates.org
SUMMARY:Blind & Visually Impaired Support Group
DESCRIPTION:Designed exclusively for blind and visually impaired adults who have been deemed legally blind and may need encouragement and support as they face this challenge.
URL:https://viadvocates.org/event/blind-visually-impaired-support-group-4/
LOCATION:City of Houston Metropolitan Multi-Service Center\, 1475 West Gray\, Houston\, TX\, 77019\, United States
END:VEVENT
BEGIN:VEVENT
DTSTART;TZID=UTC:20180503T123000
DTEND;TZID=UTC:20180503T143000
DTSTAMP:20260425T182050
CREATED:20180326T203244Z
LAST-MODIFIED:20180326T203244Z
UID:806-1525350600-1525357800@viadvocates.org
SUMMARY:VIA Executive Board Meeting
DESCRIPTION:VIA Executive Board Meeting will be held on Thursday\, May 3\, 2018 from 12:30 pm to 2:30 pm.
URL:https://viadvocates.org/event/via-executive-board-meeting-2/
LOCATION:City of Houston Metropolitan Multi-Service Center\, 1475 West Gray\, Houston\, TX\, 77019\, United States
END:VEVENT
BEGIN:VEVENT
DTSTART;TZID=UTC:20180503T103000
DTEND;TZID=UTC:20180503T113000
DTSTAMP:20260425T182050
CREATED:20180325T232613Z
LAST-MODIFIED:20180325T232613Z
UID:789-1525343400-1525347000@viadvocates.org
SUMMARY:Blind & Visually Impaired Support Group
DESCRIPTION:Designed exclusively for blind and visually impaired adults who have been deemed legally blind and may need encouragement and support as they face this challenge.
URL:https://viadvocates.org/event/blind-visually-impaired-support-group-3/
LOCATION:City of Houston Metropolitan Multi-Service Center\, 1475 West Gray\, Houston\, TX\, 77019\, United States
END:VEVENT
BEGIN:VEVENT
DTSTART;TZID=UTC:20180426T103000
DTEND;TZID=UTC:20180426T113000
DTSTAMP:20260425T182050
CREATED:20180325T232509Z
LAST-MODIFIED:20180325T232509Z
UID:787-1524738600-1524742200@viadvocates.org
SUMMARY:Blind & Visually Impaired Support Group
DESCRIPTION:Designed exclusively for blind and visually impaired adults who have been deemed legally blind and may need encouragement and support as they face this challenge.
URL:https://viadvocates.org/event/blind-visually-impaired-support-group-2/
LOCATION:City of Houston Metropolitan Multi-Service Center\, 1475 West Gray\, Houston\, TX\, 77019\, United States
END:VEVENT
BEGIN:VEVENT
DTSTART;TZID=UTC:20180419T103000
DTEND;TZID=UTC:20180419T113000
DTSTAMP:20260425T182050
CREATED:20180325T232225Z
LAST-MODIFIED:20180325T232400Z
UID:783-1524133800-1524137400@viadvocates.org
SUMMARY:Blind & Visually Impaired Support Group
DESCRIPTION:Designed exclusively for blind and visually impaired adults who have been deemed legally blind and may need encouragement and support as they face this challenge.
URL:https://viadvocates.org/event/blind-visually-impaired-support-group/
LOCATION:City of Houston Metropolitan Multi-Service Center\, 1475 West Gray\, Houston\, TX\, 77019\, United States
END:VEVENT
BEGIN:VEVENT
DTSTART;TZID=UTC:20180414T090000
DTEND;TZID=UTC:20180414T140000
DTSTAMP:20260425T182050
CREATED:20180307T004201Z
LAST-MODIFIED:20180307T004201Z
UID:748-1523696400-1523714400@viadvocates.org
SUMMARY:2018 Insight Expo
DESCRIPTION:The 2018 Insight Expo sponsored by Houston Area Visually Impaired Network (HAVIN) will be held on Saturday\, April 14\, 2018 from 9 a.m. to 2 pm.  Pre-registration is $10 and deadline is April 6\, 2018.  Expo will be held at the University of Houston Main Campus at the Health and Biomedical Sciences Building at 4901 Calhoun.
URL:https://viadvocates.org/event/2018-insight-expo/
LOCATION:TX
END:VEVENT
BEGIN:VEVENT
DTSTART;TZID=UTC:20180412T123000
DTEND;TZID=UTC:20180412T143000
DTSTAMP:20260425T182050
CREATED:20180307T002903Z
LAST-MODIFIED:20180307T004348Z
UID:744-1523536200-1523543400@viadvocates.org
SUMMARY:VIA Executive Board Meeting
DESCRIPTION:The April VIA Executive Board meeting will be held on Thursday\, April 12\, 2018 from 12:30 p.m. to 2:30 p.m.
URL:https://viadvocates.org/event/via-executive-board-meetign/
LOCATION:City of Houston Metropolitan Multi-Service Center\, 1475 West Gray\, Houston\, TX\, 77019\, United States
END:VEVENT
BEGIN:VEVENT
DTSTART;TZID=UTC:20180412T103000
DTEND;TZID=UTC:20180412T113000
DTSTAMP:20260425T182050
CREATED:20180307T003051Z
LAST-MODIFIED:20180307T003051Z
UID:746-1523529000-1523532600@viadvocates.org
SUMMARY:Blind & Visually Impaired Support Group Meeting
DESCRIPTION:Designed exclusively for blind and visually impaired adults who have been deemed legally blind and may need encouragement and support as they face this challenge.
URL:https://viadvocates.org/event/blind-visually-impaired-support-group-meeting-6/
LOCATION:City of Houston Metropolitan Multi-Service Center\, 1475 West Gray\, Houston\, TX\, 77019\, United States
END:VEVENT
BEGIN:VEVENT
DTSTART;TZID=UTC:20180407T110000
DTEND;TZID=UTC:20180407T130000
DTSTAMP:20260425T182050
CREATED:20180307T004944Z
LAST-MODIFIED:20180307T004944Z
UID:751-1523098800-1523106000@viadvocates.org
SUMMARY:Gospel Celebration
DESCRIPTION:2018 Gospel Celebration will be held Saturday\, April 7\, 2018 at New Faith Church located at 4315 W. Fuqua.  Contact persons are Michael or Peggy Garrett at 281-438-9665.
URL:https://viadvocates.org/event/gospel-celebration/
LOCATION:TX
END:VEVENT
BEGIN:VEVENT
DTSTART;TZID=UTC:20180405T130000
DTEND;TZID=UTC:20180405T143000
DTSTAMP:20260425T182050
CREATED:20180306T231839Z
LAST-MODIFIED:20180307T002654Z
UID:729-1522933200-1522938600@viadvocates.org
SUMMARY:MAC Meeting
DESCRIPTION:METROLift Advisory Committee (MAC) meeting will be held on Thursday\, April 5\, 2018 at Metropolitan Multi-Service Center from 1 p.m. to 2:30 p.m. \n  \n 
URL:https://viadvocates.org/event/mac-meeting/
LOCATION:City of Houston Metropolitan Multi-Service Center\, 1475 West Gray\, Houston\, TX\, 77019\, United States
END:VEVENT
BEGIN:VEVENT
DTSTART;TZID=UTC:20180405T103000
DTEND;TZID=UTC:20180405T113000
DTSTAMP:20260425T182050
CREATED:20180307T002146Z
LAST-MODIFIED:20180307T002146Z
UID:740-1522924200-1522927800@viadvocates.org
SUMMARY:Blind & Visually Impaired Support Group Meeting
DESCRIPTION:Designed exclusively for blind and visually impaired adults who have been deemed legally blind and may need encouragement and support as they face this challenge.
URL:https://viadvocates.org/event/blind-visually-impaired-support-group-meeting-5/
LOCATION:City of Houston Metropolitan Multi-Service Center\, 1475 West Gray\, Houston\, TX\, 77019\, United States
END:VEVENT
BEGIN:VEVENT
DTSTART;TZID=UTC:20180401T000000
DTEND;TZID=UTC:20180401T235900
DTSTAMP:20260425T182050
CREATED:20180325T231954Z
LAST-MODIFIED:20180325T231954Z
UID:781-1522540800-1522627140@viadvocates.org
SUMMARY:Happy Resurrection Day!
DESCRIPTION:
URL:https://viadvocates.org/event/happy-resurrection-day/
LOCATION:TX
END:VEVENT
BEGIN:VEVENT
DTSTART;TZID=UTC:20180329T103000
DTEND;TZID=UTC:20180329T120000
DTSTAMP:20260425T182050
CREATED:20180307T000711Z
LAST-MODIFIED:20180307T000711Z
UID:738-1522319400-1522324800@viadvocates.org
SUMMARY:Blind & Visually Impaired Support Group Meeting
DESCRIPTION:Designed exclusively for blind and visually impaired adults who have been deemed legally blind and may need encouragement and support as they face this challenge.
URL:https://viadvocates.org/event/blind-visually-impaired-support-group-meeting-4/
LOCATION:City of Houston Metropolitan Multi-Service Center\, 1475 West Gray\, Houston\, TX\, 77019\, United States
END:VEVENT
BEGIN:VEVENT
DTSTART;TZID=UTC:20180327T073000
DTEND;TZID=UTC:20180327T160000
DTSTAMP:20260425T182050
CREATED:20180225T234920Z
LAST-MODIFIED:20180225T234920Z
UID:659-1522135800-1522166400@viadvocates.org
SUMMARY:Bus Trip
DESCRIPTION:Texas Cotton Gin Historical Museum (Burton\, TX) \nOldest operational cotton gin in the USA. \nFirst come\, first serve!
URL:https://viadvocates.org/event/bus-trip/
LOCATION:TX
END:VEVENT
BEGIN:VEVENT
DTSTART;TZID=UTC:20180322T103000
DTEND;TZID=UTC:20180322T123000
DTSTAMP:20260425T182050
CREATED:20180307T000548Z
LAST-MODIFIED:20180307T002318Z
UID:736-1521714600-1521721800@viadvocates.org
SUMMARY:Blind & Visually Impaired Support Group Meeting
DESCRIPTION:Designed exclusively for blind and visually impaired adults who have been deemed legally blind and may need encouragement and support as they face this challenge.
URL:https://viadvocates.org/event/blind-visually-impaired-support-group-meeting-3/
LOCATION:City of Houston Metropolitan Multi-Service Center\, 1475 West Gray\, Houston\, TX\, 77019\, United States
END:VEVENT
BEGIN:VEVENT
DTSTART;TZID=UTC:20180322T103000
DTEND;TZID=UTC:20180322T120000
DTSTAMP:20260425T182050
CREATED:20180306T232802Z
LAST-MODIFIED:20180306T232802Z
UID:714-1521714600-1521720000@viadvocates.org
SUMMARY:Non-24 Information
DESCRIPTION:A representative from Vanda Pharmaceuticals will be present to discuss Non-24 study and the effects on the blind and visually impaired.
URL:https://viadvocates.org/event/non-24-information/
LOCATION:City of Houston Metropolitan Multi-Service Center\, 1475 West Gray\, Houston\, TX\, 77019\, United States
END:VEVENT
BEGIN:VEVENT
DTSTART;TZID=UTC:20180315T103000
DTEND;TZID=UTC:20180315T120000
DTSTAMP:20260425T182050
CREATED:20180307T000444Z
LAST-MODIFIED:20180307T000444Z
UID:734-1521109800-1521115200@viadvocates.org
SUMMARY:Blind & Visually Impaired Support Group Meeting
DESCRIPTION:Designed exclusively for blind and visually impaired adults who have been deemed legally blind and may need encouragement and suuport as they face this challenge.
URL:https://viadvocates.org/event/blind-visually-impaired-support-group-meeting-2/
LOCATION:City of Houston Metropolitan Multi-Service Center\, 1475 West Gray\, Houston\, TX\, 77019\, United States
END:VEVENT
BEGIN:VEVENT
DTSTART;TZID=UTC:20180315T103000
DTEND;TZID=UTC:20180315T120000
DTSTAMP:20260425T182050
CREATED:20180306T232909Z
LAST-MODIFIED:20180306T232909Z
UID:711-1521109800-1521115200@viadvocates.org
SUMMARY:Show & Tell
DESCRIPTION:Weekly Support Group will present a Show & Tell of accessible technology to assist in various daily living activities.
URL:https://viadvocates.org/event/show-tell/
LOCATION:City of Houston Metropolitan Multi-Service Center\, 1475 West Gray\, Houston\, TX\, 77019\, United States
END:VEVENT
END:VCALENDAR