BEGIN:VCALENDAR
VERSION:2.0
PRODID:-//Visually Impaired Advocates - Houston - ECPv6.15.20//NONSGML v1.0//EN
CALSCALE:GREGORIAN
METHOD:PUBLISH
X-ORIGINAL-URL:https://viadvocates.org
X-WR-CALDESC:Events for Visually Impaired Advocates - Houston
REFRESH-INTERVAL;VALUE=DURATION:PT1H
X-Robots-Tag:noindex
X-PUBLISHED-TTL:PT1H
BEGIN:VTIMEZONE
TZID:UTC
BEGIN:STANDARD
TZOFFSETFROM:+0000
TZOFFSETTO:+0000
TZNAME:UTC
DTSTART:20160101T000000
END:STANDARD
END:VTIMEZONE
BEGIN:VEVENT
DTSTART;VALUE=DATE:20170831
DTEND;VALUE=DATE:20170901
DTSTAMP:20260426T041732
CREATED:20170809T135054Z
LAST-MODIFIED:20170809T135054Z
UID:370-1504137600-1504223999@viadvocates.org
SUMMARY:Support Group Meeting
DESCRIPTION:
URL:https://viadvocates.org/event/support-group-meeting-7/
LOCATION:City of Houston Metropolitan Multi-Service Center\, 1475 West Gray\, Houston\, TX\, 77019\, United States
CATEGORIES:Support Group Meeting
END:VEVENT
BEGIN:VEVENT
DTSTART;VALUE=DATE:20170824
DTEND;VALUE=DATE:20170825
DTSTAMP:20260426T041732
CREATED:20170809T134952Z
LAST-MODIFIED:20170809T134952Z
UID:368-1503532800-1503619199@viadvocates.org
SUMMARY:Support Group Meeting
DESCRIPTION:
URL:https://viadvocates.org/event/support-group-meeting-6/
LOCATION:City of Houston Metropolitan Multi-Service Center\, 1475 West Gray\, Houston\, TX\, 77019\, United States
CATEGORIES:Support Group Meeting
END:VEVENT
BEGIN:VEVENT
DTSTART;VALUE=DATE:20170817
DTEND;VALUE=DATE:20170818
DTSTAMP:20260426T041732
CREATED:20170809T133148Z
LAST-MODIFIED:20170809T134831Z
UID:366-1502928000-1503014399@viadvocates.org
SUMMARY:Support Group Meeting
DESCRIPTION:
URL:https://viadvocates.org/event/support-group-meeting-5/
LOCATION:City of Houston Metropolitan Multi-Service Center\, 1475 West Gray\, Houston\, TX\, 77019\, United States
CATEGORIES:Support Group Meeting
END:VEVENT
BEGIN:VEVENT
DTSTART;VALUE=DATE:20170810
DTEND;VALUE=DATE:20170811
DTSTAMP:20260426T041732
CREATED:20170809T132620Z
LAST-MODIFIED:20170809T132620Z
UID:364-1502323200-1502409599@viadvocates.org
SUMMARY:Support Group Meeting
DESCRIPTION:
URL:https://viadvocates.org/event/support-group-meeting-4/
LOCATION:City of Houston Metropolitan Multi-Service Center\, 1475 West Gray\, Houston\, TX\, 77019\, United States
CATEGORIES:Support Group Meeting
END:VEVENT
BEGIN:VEVENT
DTSTART;VALUE=DATE:20170615
DTEND;VALUE=DATE:20170616
DTSTAMP:20260426T041732
CREATED:20170519T032820Z
LAST-MODIFIED:20170519T032938Z
UID:182-1497484800-1497571199@viadvocates.org
SUMMARY:Support Group Meeting
DESCRIPTION:
URL:https://viadvocates.org/event/support-group-meeting-3/
LOCATION:City of Houston Metropolitan Multi-Service Center\, 1475 West Gray\, Houston\, TX\, 77019\, United States
CATEGORIES:Support Group Meeting
END:VEVENT
BEGIN:VEVENT
DTSTART;VALUE=DATE:20170608
DTEND;VALUE=DATE:20170609
DTSTAMP:20260426T041732
CREATED:20170519T032749Z
LAST-MODIFIED:20170519T032920Z
UID:179-1496880000-1496966399@viadvocates.org
SUMMARY:Support Group Meeting
DESCRIPTION:
URL:https://viadvocates.org/event/support-group-meeting-2/
LOCATION:City of Houston Metropolitan Multi-Service Center\, 1475 West Gray\, Houston\, TX\, 77019\, United States
CATEGORIES:Support Group Meeting
END:VEVENT
BEGIN:VEVENT
DTSTART;VALUE=DATE:20170601
DTEND;VALUE=DATE:20170602
DTSTAMP:20260426T041732
CREATED:20170519T032711Z
LAST-MODIFIED:20170519T032711Z
UID:177-1496275200-1496361599@viadvocates.org
SUMMARY:Support Group Meeting
DESCRIPTION:
URL:https://viadvocates.org/event/support-group-meeting/
LOCATION:City of Houston Metropolitan Multi-Service Center\, 1475 West Gray\, Houston\, TX\, 77019\, United States
CATEGORIES:Support Group Meeting
END:VEVENT
END:VCALENDAR