BEGIN:VCALENDAR
VERSION:2.0
PRODID:-//Visually Impaired Advocates - Houston - ECPv6.15.20//NONSGML v1.0//EN
CALSCALE:GREGORIAN
METHOD:PUBLISH
X-ORIGINAL-URL:https://viadvocates.org
X-WR-CALDESC:Events for Visually Impaired Advocates - Houston
REFRESH-INTERVAL;VALUE=DURATION:PT1H
X-Robots-Tag:noindex
X-PUBLISHED-TTL:PT1H
BEGIN:VTIMEZONE
TZID:UTC
BEGIN:STANDARD
TZOFFSETFROM:+0000
TZOFFSETTO:+0000
TZNAME:UTC
DTSTART:20160101T000000
END:STANDARD
END:VTIMEZONE
BEGIN:VEVENT
DTSTART;TZID=UTC:20180208T123000
DTEND;TZID=UTC:20180208T143000
DTSTAMP:20260426T040959
CREATED:20180128T022440Z
LAST-MODIFIED:20180128T023227Z
UID:633-1518093000-1518100200@viadvocates.org
SUMMARY:VIA Executive Board Meeting
DESCRIPTION:
URL:https://viadvocates.org/event/via-executive-board-meeting/
LOCATION:City of Houston Metropolitan Multi-Service Center\, 1475 West Gray\, Houston\, TX\, 77019\, United States
CATEGORIES:Executive Board Meeting
END:VEVENT
BEGIN:VEVENT
DTSTART;VALUE=DATE:20170810
DTEND;VALUE=DATE:20170811
DTSTAMP:20260426T040959
CREATED:20170527T230044Z
LAST-MODIFIED:20170527T230044Z
UID:193-1502323200-1502409599@viadvocates.org
SUMMARY:Executive Board Meeting
DESCRIPTION:
URL:https://viadvocates.org/event/executive-board-meeting-2/
LOCATION:TX
CATEGORIES:Executive Board Meeting
END:VEVENT
BEGIN:VEVENT
DTSTART;VALUE=DATE:20170713
DTEND;VALUE=DATE:20170714
DTSTAMP:20260426T040959
CREATED:20170527T225750Z
LAST-MODIFIED:20170527T225750Z
UID:187-1499904000-1499990399@viadvocates.org
SUMMARY:Executive Board Meeting (Conference Call)
DESCRIPTION:
URL:https://viadvocates.org/event/executive-board-meeting-conference-call/
LOCATION:TX
CATEGORIES:Executive Board Meeting
END:VEVENT
BEGIN:VEVENT
DTSTART;VALUE=DATE:20170608
DTEND;VALUE=DATE:20170609
DTSTAMP:20260426T040959
CREATED:20170517T233825Z
LAST-MODIFIED:20170519T033051Z
UID:157-1496880000-1496966399@viadvocates.org
SUMMARY:Executive Board Meeting
DESCRIPTION:
URL:https://viadvocates.org/event/executive-board-meeting/
LOCATION:TX
CATEGORIES:Executive Board Meeting
END:VEVENT
END:VCALENDAR